BEGIN:VCALENDAR
VERSION:2.0
PRODID:-//SZABIST University Islamabad - ECPv5.12.2//NONSGML v1.0//EN
CALSCALE:GREGORIAN
METHOD:PUBLISH
X-WR-CALNAME:SZABIST University Islamabad
X-ORIGINAL-URL:https://szabist-isb.edu.pk
X-WR-CALDESC:Events for SZABIST University Islamabad
REFRESH-INTERVAL;VALUE=DURATION:PT1H
X-Robots-Tag:noindex
X-PUBLISHED-TTL:PT1H
BEGIN:VTIMEZONE
TZID:Asia/Karachi
BEGIN:STANDARD
TZOFFSETFROM:+0500
TZOFFSETTO:+0500
TZNAME:PKT
DTSTART:20220101T000000
END:STANDARD
END:VTIMEZONE
BEGIN:VEVENT
DTSTART;VALUE=DATE:20221214
DTEND;VALUE=DATE:20221215
DTSTAMP:20260425T163824
CREATED:20221214T084211Z
LAST-MODIFIED:20230523T084542Z
UID:17316-1670976000-1671062399@szabist-isb.edu.pk
SUMMARY:Experiential Learning Activity
DESCRIPTION:SAP develops enterprise software to manage business operations and customer relations. An experiential learning activity was performed for BS Accounting and Finance students of Management Information Systems. Mr. Shahid Muhammad Country Team Lead Financial Accounting was the guest speaker. He shared his expertise and knowledge through the demonstration of SAP working.\n\n\nDr. Muhammad Shafiq\, Assistant Professor of Management Sciences was the organizer and host of the event. He thanked the guest speaker and other participants of the event. In the end\, a shield was presented to guests in a very informative session. The guest really liked the smart green campus and promised to come again in the future.
URL:https://szabist-isb.edu.pk/events-calendar/experiential-learning-activity-2/
CATEGORIES:Fall 2022,SZABIST Events,Workshop
ATTACH;FMTTYPE=image/jpeg:https://szabist-isb.edu.pk/wp-content/uploads/2023/05/346793743_653107593496837_7194291836770749425_n-1.jpg
END:VEVENT
BEGIN:VEVENT
DTSTART;VALUE=DATE:20221214
DTEND;VALUE=DATE:20221215
DTSTAMP:20260425T163824
CREATED:20221220T115229Z
LAST-MODIFIED:20221229T091015Z
UID:15483-1670976000-1671062399@szabist-isb.edu.pk
SUMMARY:MBA Experiential Learning Activity
DESCRIPTION:MBA Experiential Learning Activity\n\nDr. Zoya Wajid Satti conducted an event. The activity focused on discussing different products of Multi-National Corporations (MNCs) in the form of a debate. The aim was to give insight to International Business students’ that how competitive brands introduce their products with their unique selling propositions. For each round\, two groups were supposed to come on stage. They argued regarding their product\, including pros\, USPs\, or unique features of their product. It developed the public speaking skills of the participants along with an understanding that how MNCs operate their businesses internationally.
URL:https://szabist-isb.edu.pk/events-calendar/mba-experiential-learning-activity-4/
CATEGORIES:Fall 2022,Sessions,SZABIST Events
ATTACH;FMTTYPE=image/jpeg:https://szabist-isb.edu.pk/wp-content/uploads/2022/12/319300229_454121506877040_7043456213548966117_n.jpg
END:VEVENT
END:VCALENDAR