BEGIN:VCALENDAR
VERSION:2.0
PRODID:-//SZABIST University Islamabad - ECPv5.12.2//NONSGML v1.0//EN
CALSCALE:GREGORIAN
METHOD:PUBLISH
X-WR-CALNAME:SZABIST University Islamabad
X-ORIGINAL-URL:https://szabist-isb.edu.pk
X-WR-CALDESC:Events for SZABIST University Islamabad
REFRESH-INTERVAL;VALUE=DURATION:PT1H
X-Robots-Tag:noindex
X-PUBLISHED-TTL:PT1H
BEGIN:VTIMEZONE
TZID:Asia/Karachi
BEGIN:STANDARD
TZOFFSETFROM:+0500
TZOFFSETTO:+0500
TZNAME:PKT
DTSTART:20220101T000000
END:STANDARD
END:VTIMEZONE
BEGIN:VEVENT
DTSTART;VALUE=DATE:20221203
DTEND;VALUE=DATE:20221204
DTSTAMP:20260425T181912
CREATED:20221104T074823Z
LAST-MODIFIED:20221228T112927Z
UID:15435-1670025600-1670111999@szabist-isb.edu.pk
SUMMARY:A Workshop on Stock Market Guide for Novices
DESCRIPTION:  EDC & BSAF Program organized a  workshop titled “Stock Market Guide for Novices” for the students of BSAF students. The objective of the workshop was to equip the participant with the necessary stock market practical know-how. Our students can then use this knowledge for their future investments. It introduces the process of how to find and analyze companies\, determines the risk of a stock investment or trade\, the proper entry and exit time of the stock\, understands why markets move the way they do\, and helps students choose the right trading style for your personal goals using correct approach to financial planning.\n\n\nFollowing were two Guest Speakers:\n\n\n1. Sikandar Usman Assistant Manager\, Trading and Communication\, Arif Habib Limited\n2. Asad Abbas Najafi\, Sales and Marketing Manager\, Arif Habib Limited
URL:https://szabist-isb.edu.pk/events-calendar/a-workshop-on-stock-market-guide-for-novices/
CATEGORIES:Fall 2022,SZABIST Events,Workshop
ATTACH;FMTTYPE=image/jpeg:https://szabist-isb.edu.pk/wp-content/uploads/2022/12/318145817_467892382123882_6933596671871289207_n.jpg
END:VEVENT
END:VCALENDAR