BEGIN:VCALENDAR
VERSION:2.0
PRODID:-//SZABIST University Islamabad - ECPv5.12.2//NONSGML v1.0//EN
CALSCALE:GREGORIAN
METHOD:PUBLISH
X-WR-CALNAME:SZABIST University Islamabad
X-ORIGINAL-URL:https://szabist-isb.edu.pk
X-WR-CALDESC:Events for SZABIST University Islamabad
REFRESH-INTERVAL;VALUE=DURATION:PT1H
X-Robots-Tag:noindex
X-PUBLISHED-TTL:PT1H
BEGIN:VTIMEZONE
TZID:Asia/Karachi
BEGIN:STANDARD
TZOFFSETFROM:+0500
TZOFFSETTO:+0500
TZNAME:PKT
DTSTART:20220101T000000
END:STANDARD
END:VTIMEZONE
BEGIN:VEVENT
DTSTART;VALUE=DATE:20221201
DTEND;VALUE=DATE:20221202
DTSTAMP:20260425T164504
CREATED:20221220T073843Z
LAST-MODIFIED:20221229T092030Z
UID:15429-1669852800-1669939199@szabist-isb.edu.pk
SUMMARY:Seminar on Expressive Therapies
DESCRIPTION:Seminar on Expressive Therapies at SZABIST Islamabad\n\nMam Maria Rafique Qureshi (Faculty of Social Sciences) organized a seminar.  “EXPRESSIVE THERAPIES ”  was the title of the seminar. The students of BS Clinical Psychology were the audience of the seminar. Miss Sobia Akram\, was invited as a guest speaker for the event. She is a consultant clinical psychologist and senior lecturer at Riphah International University
URL:https://szabist-isb.edu.pk/events-calendar/seminar-on-expressive-therapies/
CATEGORIES:Seminar,SZABIST Events
ATTACH;FMTTYPE=image/jpeg:https://szabist-isb.edu.pk/wp-content/uploads/2022/12/317807679_466444588935328_4176555495115052740_n.jpg
END:VEVENT
END:VCALENDAR