BEGIN:VCALENDAR
VERSION:2.0
PRODID:-//SZABIST University Islamabad - ECPv5.12.2//NONSGML v1.0//EN
CALSCALE:GREGORIAN
METHOD:PUBLISH
X-WR-CALNAME:SZABIST University Islamabad
X-ORIGINAL-URL:https://szabist-isb.edu.pk
X-WR-CALDESC:Events for SZABIST University Islamabad
REFRESH-INTERVAL;VALUE=DURATION:PT1H
X-Robots-Tag:noindex
X-PUBLISHED-TTL:PT1H
BEGIN:VTIMEZONE
TZID:Asia/Karachi
BEGIN:STANDARD
TZOFFSETFROM:+0500
TZOFFSETTO:+0500
TZNAME:PKT
DTSTART:20220101T000000
END:STANDARD
END:VTIMEZONE
BEGIN:VEVENT
DTSTART;VALUE=DATE:20221129
DTEND;VALUE=DATE:20221130
DTSTAMP:20260425T163825
CREATED:20221130T132550Z
LAST-MODIFIED:20230529T132921Z
UID:17492-1669680000-1669766399@szabist-isb.edu.pk
SUMMARY:Diabetes Awareness Seminar & Camp
DESCRIPTION:Diabetes Awareness Seminar & Camp \nAccording to the established estimated results of research\, there are 33 million people living with type 2 diabetes in Pakistan—the third largest diabetes population globally. An additional 11 million adults in Pakistan have impaired glucose tolerance\, while approximately 8·9 million people with diabetes remain undiagnosed. \nSZABIST Islamabad has always been concerned with the issues that arise in and outside Pakistan. Seeing the alarming increase of diabetes\, the Department of Management Sciences and Social Responsibility Society arranged a diabetic awareness seminar and free medical camp for faculty and students on 30th November 2022 at the SZABIST Islamabad campus. \nThe Medical specialist Doctor Nasreen and Nutritionist MS Shafaq were invited along with the medical team of “The Diabetic Center” (TDC) Islamabad. Doctor Nasreen and MS Shafaq shared their knowledge of the precautions and treatment of diabetes. The team further conducted the tests for faculty and students and prescribed them the treatment. The activity was organized by Dr. Iffat Rasool and Mr.Shahid Jhangir Raja. The students of BBA 5 and 6 were engaged in the event. \n\n			\n				\n			\n			\n				\n			\n			\n				\n			\n		\n\n  \n  \n 
URL:https://szabist-isb.edu.pk/events-calendar/diabetes-awareness-seminar-camp-2/
CATEGORIES:Seminar,SZABIST Events
ATTACH;FMTTYPE=image/jpeg:https://szabist-isb.edu.pk/wp-content/uploads/2023/05/Pic-2-Seminar-Diabates-1.jpg
END:VEVENT
BEGIN:VEVENT
DTSTART;VALUE=DATE:20221129
DTEND;VALUE=DATE:20221130
DTSTAMP:20260425T163825
CREATED:20221130T140133Z
LAST-MODIFIED:20221130T140133Z
UID:15345-1669680000-1669766399@szabist-isb.edu.pk
SUMMARY:Training -  Effective Content Writing and Delivery of Project Proposals
DESCRIPTION:Training –  Effective Content Writing and Delivery of Project Proposals\n\n\n\nYou’ve already put a great deal of work into preparing a solid business case for your project or idea. But when it comes to the critical presentation phase\, how do you earn the support of decision-makers in the room? How do you present your case so that it’s clear and straightforward while also persuasive? Without a winning delivery\, even the best-laid business plans are at a disadvantage. \n\n\n\n\nThe students of the Business and Electronic Communication course of BBA-3A were trained and made part of the experiential learning activity in which they presented their project proposal pertaining to a particular cause.
URL:https://szabist-isb.edu.pk/events-calendar/training-effective-content-writing-and-delivery-of-project-proposals/
CATEGORIES:00 - Event Categories,Fall 2022,SZABIST Events,Workshop
ATTACH;FMTTYPE=image/jpeg:https://szabist-isb.edu.pk/wp-content/uploads/2022/11/317378090_465174582395662_4994717468364412265_n.jpg
END:VEVENT
END:VCALENDAR