BEGIN:VCALENDAR
VERSION:2.0
PRODID:-//SZABIST University Islamabad - ECPv5.12.2//NONSGML v1.0//EN
CALSCALE:GREGORIAN
METHOD:PUBLISH
X-WR-CALNAME:SZABIST University Islamabad
X-ORIGINAL-URL:https://szabist-isb.edu.pk
X-WR-CALDESC:Events for SZABIST University Islamabad
REFRESH-INTERVAL;VALUE=DURATION:PT1H
X-Robots-Tag:noindex
X-PUBLISHED-TTL:PT1H
BEGIN:VTIMEZONE
TZID:Asia/Karachi
BEGIN:STANDARD
TZOFFSETFROM:+0500
TZOFFSETTO:+0500
TZNAME:PKT
DTSTART:20220101T000000
END:STANDARD
END:VTIMEZONE
BEGIN:VEVENT
DTSTART;VALUE=DATE:20221111
DTEND;VALUE=DATE:20221112
DTSTAMP:20260425T181707
CREATED:20221121T082117Z
LAST-MODIFIED:20221121T082117Z
UID:15280-1668124800-1668211199@szabist-isb.edu.pk
SUMMARY:Guest lecture on “Project Management in Supply Chain"
DESCRIPTION:Guest lecture on “Project Management in Supply Chain”\n\n\n\nThe MSPM program of SZABIST Islamabad aims to furnish the students with real industrial exposure besides formal knowledge. In continuation\, a guest session was organized on the 11th of November 2022. The guest speaker Mr. Muhammad Kashif Siddiqui (CGEIT\, COBIT\, PMP\, CISA\, Senior Vice-President Khushali Microfinance Bank) graced the occasion and teach the student about the latest Supply Chain practices in project management and how these practices are helping in real life. Dr. Muhammad Saeed Shahbaz makes all the necessary arrangements and moderates the session.\n\n\n\n#SZABIST #islamabad
URL:https://szabist-isb.edu.pk/events-calendar/guest-lecture-on-project-management-in-supply-chain/
CATEGORIES:00 - Event Categories,Fall 2022,Sessions,SZABIST Events
ATTACH;FMTTYPE=image/jpeg:https://szabist-isb.edu.pk/wp-content/uploads/2022/11/356A2452-1.jpg
END:VEVENT
END:VCALENDAR