BEGIN:VCALENDAR
VERSION:2.0
PRODID:-//SZABIST University Islamabad - ECPv5.12.2//NONSGML v1.0//EN
CALSCALE:GREGORIAN
METHOD:PUBLISH
X-WR-CALNAME:SZABIST University Islamabad
X-ORIGINAL-URL:https://szabist-isb.edu.pk
X-WR-CALDESC:Events for SZABIST University Islamabad
REFRESH-INTERVAL;VALUE=DURATION:PT1H
X-Robots-Tag:noindex
X-PUBLISHED-TTL:PT1H
BEGIN:VTIMEZONE
TZID:Asia/Karachi
BEGIN:STANDARD
TZOFFSETFROM:+0500
TZOFFSETTO:+0500
TZNAME:PKT
DTSTART:20220101T000000
END:STANDARD
END:VTIMEZONE
BEGIN:VEVENT
DTSTART;VALUE=DATE:20221103
DTEND;VALUE=DATE:20221104
DTSTAMP:20260425T182802
CREATED:20221130T133249Z
LAST-MODIFIED:20221130T133249Z
UID:15334-1667433600-1667519999@szabist-isb.edu.pk
SUMMARY:Experiential Activity - Presenting Yourself as a Brand
DESCRIPTION:An experiential activity – Presenting Yourself as a Brand of BSAF-1 was conducted on 3rd November 2022.\n\n\n\nOne’s introduction happens to be one of the most important first touch points with the audience\, and it should be rock solid. It should come out naturally. And should stick to someone’s brain the moment they hear it. The problem with long\, imprecise\, and unconfident introductions is that they just don’t stick. They are very likely to receive a polite response like “Oh\, sounds interesting”\, or “That’s great!”\, but chances are they will leave the audience totally unclear as to what it is that you are actually good at.\n\n\n\nSo\, the students of BSAF-1 were first trained to introduce themselves in a variety of settings. Later\, they were made part of the exercise where they introduced themselves as powerful brands keeping in consideration their verbal\, vocal\, and visual communication.
URL:https://szabist-isb.edu.pk/events-calendar/experiential-activity-presenting-yourself-as-a-brand/
CATEGORIES:00 - Event Categories,Fall 2022,Semester Activities,SZABIST Events
ATTACH;FMTTYPE=image/jpeg:https://szabist-isb.edu.pk/wp-content/uploads/2022/11/356A1483-scaled.jpg
END:VEVENT
END:VCALENDAR