BEGIN:VCALENDAR
VERSION:2.0
PRODID:-//SZABIST University Islamabad - ECPv5.12.2//NONSGML v1.0//EN
CALSCALE:GREGORIAN
METHOD:PUBLISH
X-WR-CALNAME:SZABIST University Islamabad
X-ORIGINAL-URL:https://szabist-isb.edu.pk
X-WR-CALDESC:Events for SZABIST University Islamabad
REFRESH-INTERVAL;VALUE=DURATION:PT1H
X-Robots-Tag:noindex
X-PUBLISHED-TTL:PT1H
BEGIN:VTIMEZONE
TZID:Asia/Karachi
BEGIN:STANDARD
TZOFFSETFROM:+0500
TZOFFSETTO:+0500
TZNAME:PKT
DTSTART:20220101T000000
END:STANDARD
END:VTIMEZONE
BEGIN:VEVENT
DTSTART;VALUE=DATE:20221018
DTEND;VALUE=DATE:20221019
DTSTAMP:20260425T195353
CREATED:20221112T141725Z
LAST-MODIFIED:20221112T141725Z
UID:15201-1666051200-1666137599@szabist-isb.edu.pk
SUMMARY:Seerat-e-Nabvi (PBUH)
DESCRIPTION:Seerat-e-Nabvi (PBUH)\n\nThe month of the Rabi Ul Awal motivates us all to learn about the life of the holy prophet Muhammad (PBUH) Department of Management Sciences arranged a program on Seerat-e-Nabvi (PBUH) on 18th Oct 2022 in SZABIST Islamabad.\n\n\n\nDistinguished scholar and Director General\, Rahimia Institute of Quranic Sciences\, Mufti Abdul Khaliq Azad\, gave a lecture on the topic\, ‘Seerat e Tayaba Ke Roshni Mei Taleem o Tarbyt Ke Zrurt wa Ahmiyt’. Faculty\, staff\, and students participated from all the departments at SZABIST Islamabad.
URL:https://szabist-isb.edu.pk/events-calendar/seerat-e-nabvi-pbuh/
CATEGORIES:00 - Event Categories,Fall 2022,Seminar,SZABIST Events
END:VEVENT
END:VCALENDAR