BEGIN:VCALENDAR
VERSION:2.0
PRODID:-//SZABIST University Islamabad - ECPv5.12.2//NONSGML v1.0//EN
CALSCALE:GREGORIAN
METHOD:PUBLISH
X-WR-CALNAME:SZABIST University Islamabad
X-ORIGINAL-URL:https://szabist-isb.edu.pk
X-WR-CALDESC:Events for SZABIST University Islamabad
REFRESH-INTERVAL;VALUE=DURATION:PT1H
X-Robots-Tag:noindex
X-PUBLISHED-TTL:PT1H
BEGIN:VTIMEZONE
TZID:Asia/Karachi
BEGIN:STANDARD
TZOFFSETFROM:+0500
TZOFFSETTO:+0500
TZNAME:PKT
DTSTART:20220101T000000
END:STANDARD
END:VTIMEZONE
BEGIN:VEVENT
DTSTART;VALUE=DATE:20221008
DTEND;VALUE=DATE:20221009
DTSTAMP:20260425T213949
CREATED:20221020T115813Z
LAST-MODIFIED:20221020T115813Z
UID:15031-1665187200-1665273599@szabist-isb.edu.pk
SUMMARY:Seminar by Mr. Arif Masood
DESCRIPTION:Department of BS Accounting & Finance organized a seminar on the October 8th\, 2022 at SZABIST Islamabad. Mr. Arif Masood\, an Architect of the Pakistan Monument\, graced the event with his presence. He explained how this monument was created to symbolize the unity of the Pakistani people.\n\n\nStudying History and memorizing it can be really stressful for the students. However\, when it’s shown through the visuals\, it’s easier to grasp.\n\n\nDr.Hassan Raza (PM- BSAF) facilitated the seminar in collaboration with Associate Prof Dr.Rashida (PM-BBA) and faculty Mrs. Asma Javed.
URL:https://szabist-isb.edu.pk/events-calendar/seminar-by-mr-arif-masood/
CATEGORIES:00 - Event Categories,Fall 2022,Seminar,SZABIST Events
ATTACH;FMTTYPE=image/jpeg:https://szabist-isb.edu.pk/wp-content/uploads/2022/10/356A8981-1.jpg
END:VEVENT
BEGIN:VEVENT
DTSTART;TZID=Asia/Karachi:20221008T080000
DTEND;TZID=Asia/Karachi:20221008T170000
DTSTAMP:20260425T213949
CREATED:20221008T094143Z
LAST-MODIFIED:20221008T094143Z
UID:15018-1665216000-1665248400@szabist-isb.edu.pk
SUMMARY:Breast Cancer Awareness Seminar
DESCRIPTION:Breast Cancer Awareness Seminar\n\n\n\nThe Department of Management Sciences arranged the “Pink Lady Breast Cancer Awareness seminar” for the female graduating students of Management Sciences at SZABIST Islamabad\nCampus on Tuesday\, 4th October 2022\, in collaboration with Shaukat Khanum Memorial Cancer Hospital and Research Centre (SKMCHRC).\n\n\n\nDr. Maria from (SKMCHRC) shared her knowledge about the diagnosis and cure of breast cancer among females in Pakistan. The\nseminar’s main objective was to develop students’ awareness and confidence to face the personal and societal challenges.\n\n\nAt the end of the seminar\, Dr. Shumaila Zeb\, Associate professor and Program Manager for the BBA program presented the souvenir to the guest speaker. The event was organized by Dr. Iffat Rasool Associate professor at SZABIST Islamabad Campus.\n\n\n#szabist #islamabad #breastcancerawareness
URL:https://szabist-isb.edu.pk/events-calendar/breast-cancer-awareness-seminar/
CATEGORIES:00 - Event Categories,Fall 2022,Seminar,SZABIST Events
ATTACH;FMTTYPE=image/jpeg:https://szabist-isb.edu.pk/wp-content/uploads/2022/10/356A8361-1.jpg
END:VEVENT
END:VCALENDAR