BEGIN:VCALENDAR
VERSION:2.0
PRODID:-//SZABIST University Islamabad - ECPv5.12.2//NONSGML v1.0//EN
CALSCALE:GREGORIAN
METHOD:PUBLISH
X-WR-CALNAME:SZABIST University Islamabad
X-ORIGINAL-URL:https://szabist-isb.edu.pk
X-WR-CALDESC:Events for SZABIST University Islamabad
REFRESH-INTERVAL;VALUE=DURATION:PT1H
X-Robots-Tag:noindex
X-PUBLISHED-TTL:PT1H
BEGIN:VTIMEZONE
TZID:Asia/Karachi
BEGIN:STANDARD
TZOFFSETFROM:+0500
TZOFFSETTO:+0500
TZNAME:PKT
DTSTART:20220101T000000
END:STANDARD
END:VTIMEZONE
BEGIN:VEVENT
DTSTART;VALUE=DATE:20220929
DTEND;VALUE=DATE:20220930
DTSTAMP:20260425T195517
CREATED:20220930T113003Z
LAST-MODIFIED:20220930T113047Z
UID:14926-1664409600-1664495999@szabist-isb.edu.pk
SUMMARY:Workshop on Fake News
DESCRIPTION:Media Sciences Department at SZABIST Islamabad arranged a workshop for students on one of the most trending topics\, “Fake News” on September 29th\, 2022\, in collaboration with The Independent – Urdu.\n\nMr. Haroon Rashid (Managing Director of Independent Urdu) & Dr. Palwasha Marwat briefed about the advanced media techniques used in identifying Fake News and how it can be digitally cross-checked.\n\n\n\n\n\n\n\n\n\n\n			\n				\n			\n			\n				\n			\n			\n				\n			\n			\n				\n			\n		\n\n\n\n\n#SZABIST #islamabad #media
URL:https://szabist-isb.edu.pk/events-calendar/workshop-on-fake-news/
CATEGORIES:00 - Event Categories,Fall 2022,SZABIST Events,Workshop
ATTACH;FMTTYPE=image/jpeg:https://szabist-isb.edu.pk/wp-content/uploads/2022/09/356A6111-1.jpg
END:VEVENT
END:VCALENDAR