BEGIN:VCALENDAR
VERSION:2.0
PRODID:-//SZABIST University Islamabad - ECPv5.12.2//NONSGML v1.0//EN
CALSCALE:GREGORIAN
METHOD:PUBLISH
X-WR-CALNAME:SZABIST University Islamabad
X-ORIGINAL-URL:https://szabist-isb.edu.pk
X-WR-CALDESC:Events for SZABIST University Islamabad
REFRESH-INTERVAL;VALUE=DURATION:PT1H
X-Robots-Tag:noindex
X-PUBLISHED-TTL:PT1H
BEGIN:VTIMEZONE
TZID:Asia/Karachi
BEGIN:STANDARD
TZOFFSETFROM:+0500
TZOFFSETTO:+0500
TZNAME:PKT
DTSTART:20220101T000000
END:STANDARD
END:VTIMEZONE
BEGIN:VEVENT
DTSTART;VALUE=DATE:20220609
DTEND;VALUE=DATE:20220610
DTSTAMP:20260426T024105
CREATED:20220610T122707Z
LAST-MODIFIED:20220610T122707Z
UID:14242-1654732800-1654819199@szabist-isb.edu.pk
SUMMARY:Buyer-Centered Marketing
DESCRIPTION:Students of BBA-6B conceived business ideas and developed business plans to transform their ideas into start-ups. Furthermore\, they developed their product prototypes and tested their products in real markets. The purpose of the project was to cultivate their business acumen\, develop enterprise skills and explore their career options. Not only did they gain valuable experience but some of the teams were able to make good sales as well.
URL:https://szabist-isb.edu.pk/events-calendar/buyer-centered-marketing/
CATEGORIES:Spring 2022,SZABIST Events
ATTACH;FMTTYPE=image/jpeg:https://szabist-isb.edu.pk/wp-content/uploads/2022/06/1-13.jpeg
END:VEVENT
END:VCALENDAR