BEGIN:VCALENDAR
VERSION:2.0
PRODID:-//SZABIST University Islamabad - ECPv5.12.2//NONSGML v1.0//EN
CALSCALE:GREGORIAN
METHOD:PUBLISH
X-WR-CALNAME:SZABIST University Islamabad
X-ORIGINAL-URL:https://szabist-isb.edu.pk
X-WR-CALDESC:Events for SZABIST University Islamabad
REFRESH-INTERVAL;VALUE=DURATION:PT1H
X-Robots-Tag:noindex
X-PUBLISHED-TTL:PT1H
BEGIN:VTIMEZONE
TZID:Asia/Karachi
BEGIN:STANDARD
TZOFFSETFROM:+0500
TZOFFSETTO:+0500
TZNAME:PKT
DTSTART:20220101T000000
END:STANDARD
END:VTIMEZONE
BEGIN:VEVENT
DTSTART;VALUE=DATE:20220602
DTEND;VALUE=DATE:20220603
DTSTAMP:20260426T024648
CREATED:20220610T115249Z
LAST-MODIFIED:20220919T141849Z
UID:14222-1654128000-1654214399@szabist-isb.edu.pk
SUMMARY:SOCIAL SERVICES EXPERIENCE LEARNING VISIT
DESCRIPTION:SOCIAL SERVICES EXPERIENCE LEARNING VISIT\n\n\n\nUnder the supervision of Mr. Asfandyar Khan\, visiting faculty at Department of Management Sciences organized a Social Services experience learning visit for the student of BBA 6A to Local Support Organization Union Council Charah. The purpose of the visit was:\n\n To give an opportunity to students to witness the actual operations of community organizations and their operations.\n To illustrate some of how community services are being delivered\n To understand how societal and communal issues have affected the lives of people\n To get an understanding of organizing community\, community engagement\, community development\, and sustainable development.
URL:https://szabist-isb.edu.pk/events-calendar/social-services-experience-learning-visit/
CATEGORIES:Spring 2022,SZABIST Events
ATTACH;FMTTYPE=image/jpeg:https://szabist-isb.edu.pk/wp-content/uploads/2022/06/DSC_0060-1.jpg
END:VEVENT
END:VCALENDAR