BEGIN:VCALENDAR
VERSION:2.0
PRODID:-//SZABIST University Islamabad - ECPv5.12.2//NONSGML v1.0//EN
CALSCALE:GREGORIAN
METHOD:PUBLISH
X-WR-CALNAME:SZABIST University Islamabad
X-ORIGINAL-URL:https://szabist-isb.edu.pk
X-WR-CALDESC:Events for SZABIST University Islamabad
REFRESH-INTERVAL;VALUE=DURATION:PT1H
X-Robots-Tag:noindex
X-PUBLISHED-TTL:PT1H
BEGIN:VTIMEZONE
TZID:Asia/Karachi
BEGIN:STANDARD
TZOFFSETFROM:+0500
TZOFFSETTO:+0500
TZNAME:PKT
DTSTART:20220101T000000
END:STANDARD
END:VTIMEZONE
BEGIN:VEVENT
DTSTART;VALUE=DATE:20220601
DTEND;VALUE=DATE:20220602
DTSTAMP:20260426T024124
CREATED:20220610T105910Z
LAST-MODIFIED:20220610T105910Z
UID:14173-1654041600-1654127999@szabist-isb.edu.pk
SUMMARY:“Only one Earth”
DESCRIPTION:Environment plays an important role in healthy living and the existence of life on planet earth. Earth is a home for different living species and we all are dependent on the environment for food\, air\, water\, and other needs. Therefore\, it is important for every individual to save and protect our environment. On 1st June 2022 Islamabad Chamber of Commerce and Industry (ICCI) organizes an exhibition on the theme “Only one Earth”. Students of the SZABIST Islamabad campus participated keenly under the supervision of Shahid Jahangir Raja (Faculty Member of Management Science) for a positive contribution to making this planet a safer place to live.
URL:https://szabist-isb.edu.pk/events-calendar/only-one-earth/
CATEGORIES:Spring 2022,SZABIST Events
ATTACH;FMTTYPE=image/jpeg:https://szabist-isb.edu.pk/wp-content/uploads/2022/06/285591428_5221542447932875_6607048088170809664_n.jpg
END:VEVENT
BEGIN:VEVENT
DTSTART;VALUE=DATE:20220601
DTEND;VALUE=DATE:20220602
DTSTAMP:20260426T024124
CREATED:20220919T121537Z
LAST-MODIFIED:20220919T121537Z
UID:14846-1654041600-1654127999@szabist-isb.edu.pk
SUMMARY:Webinar on Academic Journal indexing
DESCRIPTION:Webinar on Academic Journal indexing and publishing platforms \nSZABIST Research Center (SIG: Entrepreneurship &amp; Marketing) organized a training-webinar\non “Academic Journal indexing and publishing platforms” for faculty members and graduate\nstudents of management sciences department. Dr. Qasim Ali Nisar (Senior Lecturer) Taylor’s\nUniversity Malaysia was the guest speaker and he trained the participants on the use of credible\nresearch data base. This session was moderated by Dr. Saqlain Raza on June 01\, 2022. \n 
URL:https://szabist-isb.edu.pk/events-calendar/webinar-on-academic-journal-indexing/
CATEGORIES:00 - Event Categories,Spring 2022,SZABIST Events,Webinar
ATTACH;FMTTYPE=image/jpeg:https://szabist-isb.edu.pk/wp-content/uploads/2022/09/5.jpeg
END:VEVENT
END:VCALENDAR