BEGIN:VCALENDAR
VERSION:2.0
PRODID:-//SZABIST University Islamabad - ECPv5.12.2//NONSGML v1.0//EN
CALSCALE:GREGORIAN
METHOD:PUBLISH
X-WR-CALNAME:SZABIST University Islamabad
X-ORIGINAL-URL:https://szabist-isb.edu.pk
X-WR-CALDESC:Events for SZABIST University Islamabad
REFRESH-INTERVAL;VALUE=DURATION:PT1H
X-Robots-Tag:noindex
X-PUBLISHED-TTL:PT1H
BEGIN:VTIMEZONE
TZID:Asia/Karachi
BEGIN:STANDARD
TZOFFSETFROM:+0500
TZOFFSETTO:+0500
TZNAME:PKT
DTSTART:20220101T000000
END:STANDARD
END:VTIMEZONE
BEGIN:VEVENT
DTSTART;VALUE=DATE:20220525
DTEND;VALUE=DATE:20220526
DTSTAMP:20260426T060933
CREATED:20220610T072705Z
LAST-MODIFIED:20220919T142652Z
UID:14194-1653436800-1653523199@szabist-isb.edu.pk
SUMMARY:Innovation Challenge 2022 by SZABIST Islamabad
DESCRIPTION:Innovation Challenge 2022 by SZABIST Islamabad\n\nOn 25th May\, the MBA department hosted an avant-garde event\, Innovation Challenge 2022. Innovation Challenge 2022 was more than a national-level inter-university business plan competition; it was a forum where students from across the country participated in purely sharing their passion for entrepreneurship with the rest of the world. In pursuit of elevating the business acumen of the youth of Pakistan and curating an inclusive space for talent\, and meritocracy to prevail while curtailing socio-economic stratification- MBA PM Prof.Dr.Shazia Akhtar embarked on the journey of bringing her vision to life. Hence MBA club-under the leadership of Dr.Shazia Akhtar and mentorship of Ms.Saima Saleem and Mr. Ahmed Ali Qureshi successfully executed Innovation Challenge’22.
URL:https://szabist-isb.edu.pk/events-calendar/innovation-challenge-2022/
CATEGORIES:00 - Event Categories,Semester Activities,Spring 2022,SZABIST Events
ATTACH;FMTTYPE=image/jpeg:https://szabist-isb.edu.pk/wp-content/uploads/2022/06/356A2722-1.jpg
END:VEVENT
END:VCALENDAR