BEGIN:VCALENDAR
VERSION:2.0
PRODID:-//SZABIST University Islamabad - ECPv5.12.2//NONSGML v1.0//EN
CALSCALE:GREGORIAN
METHOD:PUBLISH
X-WR-CALNAME:SZABIST University Islamabad
X-ORIGINAL-URL:https://szabist-isb.edu.pk
X-WR-CALDESC:Events for SZABIST University Islamabad
REFRESH-INTERVAL;VALUE=DURATION:PT1H
X-Robots-Tag:noindex
X-PUBLISHED-TTL:PT1H
BEGIN:VTIMEZONE
TZID:Asia/Karachi
BEGIN:STANDARD
TZOFFSETFROM:+0500
TZOFFSETTO:+0500
TZNAME:PKT
DTSTART:20220101T000000
END:STANDARD
END:VTIMEZONE
BEGIN:VEVENT
DTSTART;VALUE=DATE:20220524
DTEND;VALUE=DATE:20220525
DTSTAMP:20260426T060938
CREATED:20220920T085656Z
LAST-MODIFIED:20220920T085656Z
UID:14857-1653350400-1653436799@szabist-isb.edu.pk
SUMMARY:Training on SEM
DESCRIPTION:Training on SEM \nManagement Science Research Center (HRM/Management) of SZABIST Islamabad organized\na training on Structural Equation Modeling (SEM) using software AMOS on Tuesday\n24th May 2022 at 7.00 P.M. for the students of MBA\, MS & Ph.D. Management Sciences. The\nobjective of SEM using software AMOS was to support the students to understand the operations\nof research and theories by extending standard multivariate analysis methods\, including\nregression\, factor analysis\, correlation\, and analysis of variance. The workshop trainer was Mr\nUsman Baig a trainer &amp; academician. The workshop was coordinated by Associate Professor Dr.\nIf Rasool Management Sciences SZABIST Islamabad. \n 
URL:https://szabist-isb.edu.pk/events-calendar/training-on-sem/
CATEGORIES:00 - Event Categories,Spring 2022,SZABIST Events,Workshop
ATTACH;FMTTYPE=image/png:https://szabist-isb.edu.pk/wp-content/uploads/2022/09/Workshop-On-SEM.png
END:VEVENT
END:VCALENDAR