BEGIN:VCALENDAR
VERSION:2.0
PRODID:-//SZABIST University Islamabad - ECPv5.12.2//NONSGML v1.0//EN
CALSCALE:GREGORIAN
METHOD:PUBLISH
X-WR-CALNAME:SZABIST University Islamabad
X-ORIGINAL-URL:https://szabist-isb.edu.pk
X-WR-CALDESC:Events for SZABIST University Islamabad
REFRESH-INTERVAL;VALUE=DURATION:PT1H
X-Robots-Tag:noindex
X-PUBLISHED-TTL:PT1H
BEGIN:VTIMEZONE
TZID:Asia/Karachi
BEGIN:STANDARD
TZOFFSETFROM:+0500
TZOFFSETTO:+0500
TZNAME:PKT
DTSTART:20220101T000000
END:STANDARD
END:VTIMEZONE
BEGIN:VEVENT
DTSTART;VALUE=DATE:20220523
DTEND;VALUE=DATE:20220524
DTSTAMP:20260426T060934
CREATED:20220610T061208Z
LAST-MODIFIED:20220610T111325Z
UID:14187-1653264000-1653350399@szabist-isb.edu.pk
SUMMARY:Shifa Foundation Falahee Clinic a community-based project Visit
DESCRIPTION:The students of the Department of Management Sciences BBA 6 B Social Advocacy & Community Service and Social Responsibility Club SZABIST Islamabad of Shifa International Hospital on 23rd May 2022. The visit was organized by Dr. Iffat Rasool Associate Professor SZABIST Islamabad.\nDr. Hameed Mumtaz Durrani Administrator of Shifa Foundation Community Health Centre (SFCHC)\, Shifa International Hospital / Shifa College of Medicine\, Shifa Tameer-e-Millat University\, Islamabad briefed the students about the role of the Shifa Foundation for community services.\nThis visit enabled the students to experience the activities of community-based organizations and integrate their experiential understanding and learning of Social Advocacy and Community Service with their final semester project.\nIn addition\, the students on the behalf of Social Responsibility Club SZABIST Islamabad donated the cash amount to the administration of the Shifa Foundation. The main objective of the donation was to develop a sense of social responsibility among the youth toward society.
URL:https://szabist-isb.edu.pk/events-calendar/shifa-foundation-falahee-clinic-a-community-based-project-visit/
CATEGORIES:Spring 2022,SZABIST Events
ATTACH;FMTTYPE=image/jpeg:https://szabist-isb.edu.pk/wp-content/uploads/2022/06/286300931_5235397399880713_4206119495590414467_n.jpg
END:VEVENT
END:VCALENDAR