BEGIN:VCALENDAR
VERSION:2.0
PRODID:-//SZABIST University Islamabad - ECPv5.12.2//NONSGML v1.0//EN
CALSCALE:GREGORIAN
METHOD:PUBLISH
X-WR-CALNAME:SZABIST University Islamabad
X-ORIGINAL-URL:https://szabist-isb.edu.pk
X-WR-CALDESC:Events for SZABIST University Islamabad
REFRESH-INTERVAL;VALUE=DURATION:PT1H
X-Robots-Tag:noindex
X-PUBLISHED-TTL:PT1H
BEGIN:VTIMEZONE
TZID:Asia/Karachi
BEGIN:STANDARD
TZOFFSETFROM:+0500
TZOFFSETTO:+0500
TZNAME:PKT
DTSTART:20220101T000000
END:STANDARD
END:VTIMEZONE
BEGIN:VEVENT
DTSTART;VALUE=DATE:20220522
DTEND;VALUE=DATE:20220523
DTSTAMP:20260426T060928
CREATED:20220915T110755Z
LAST-MODIFIED:20220915T110755Z
UID:14723-1653177600-1653263999@szabist-isb.edu.pk
SUMMARY:Hands on Workshop by SZABIST Research Centre
DESCRIPTION:The SZABIST Research Center under the Department of Management Sciences aims to enhance scholarly activities to equip the researchers with the latest tools and techniques besides formal knowledge. In continuation\, a Hands-On workshop was organized on the 14th of May 2022 for all MBA\, MS\, and Ph.D. students. The trainer Dr. Muhammad Saeed Shahbaz covered the below topics: \nIntroduction of the Mendeley \nInstalling the Mendeley Desktop and creating an account \nAdding\, managing\, organizing\, editing the research material (Research articles\, books\, thesis\, reports and etc.) on Mendeley. \nPlugin MS-Word with Mendeley \nCitation and references on MS-Word through Mendeley. \nChange and/or iteration of various citation styles (APA\, IEEE\, Vancouver and etc.) \nHow to import research material from various sources to Mendeley directly. \n  \n\n			\n				\n			\n			\n				\n			\n			\n				\n			\n			\n				\n			\n		\n\n 
URL:https://szabist-isb.edu.pk/events-calendar/hands-on-workshop-by-szabist-research-centre/
CATEGORIES:00 - Event Categories,Spring 2022,SZABIST Events,Workshop
ATTACH;FMTTYPE=image/jpeg:https://szabist-isb.edu.pk/wp-content/uploads/2022/09/356A8343-1.jpg
END:VEVENT
END:VCALENDAR