BEGIN:VCALENDAR
VERSION:2.0
PRODID:-//SZABIST University Islamabad - ECPv5.12.2//NONSGML v1.0//EN
CALSCALE:GREGORIAN
METHOD:PUBLISH
X-WR-CALNAME:SZABIST University Islamabad
X-ORIGINAL-URL:https://szabist-isb.edu.pk
X-WR-CALDESC:Events for SZABIST University Islamabad
REFRESH-INTERVAL;VALUE=DURATION:PT1H
X-Robots-Tag:noindex
X-PUBLISHED-TTL:PT1H
BEGIN:VTIMEZONE
TZID:Asia/Karachi
BEGIN:STANDARD
TZOFFSETFROM:+0500
TZOFFSETTO:+0500
TZNAME:PKT
DTSTART:20220101T000000
END:STANDARD
END:VTIMEZONE
BEGIN:VEVENT
DTSTART;VALUE=DATE:20220520
DTEND;VALUE=DATE:20220521
DTSTAMP:20260426T060943
CREATED:20220520T114243Z
LAST-MODIFIED:20220804T130358Z
UID:14580-1653004800-1653091199@szabist-isb.edu.pk
SUMMARY:MBA Experiential Learning Activity
DESCRIPTION: Dr Arusa Khalid\, Assistant Professor Department of Management Sciences\, SZABIST\, Islamabad campus\, organized a trip of MBA students to Metro Cash and Carry on Friday 20th May 2022. Mr. Yousaf Haroon (MTO\, Metro) and Mr. Syed Bilal (HR Manager\, Metro) welcomed the students and briefed them about various departments of Metro Cash and Carry\, including operations\, merchandising\, sales\, and marketing\, etc. The trip was also intended to enhance students’ knowledge concerning an organization’s positive differentiation over its rivals from the consumers’ perspective.
URL:https://szabist-isb.edu.pk/events-calendar/mba-experiential-learning-activity-3/
CATEGORIES:Spring 2022,SZABIST Events
ATTACH;FMTTYPE=image/jpeg:https://szabist-isb.edu.pk/wp-content/uploads/2022/08/283770463_699186801372431_7906257548158877977_n-1.jpg
END:VEVENT
BEGIN:VEVENT
DTSTART;VALUE=DATE:20220520
DTEND;VALUE=DATE:20220521
DTSTAMP:20260426T060943
CREATED:20220520T124007Z
LAST-MODIFIED:20220923T100157Z
UID:14399-1653004800-1653091199@szabist-isb.edu.pk
SUMMARY:MBA Project simulations
DESCRIPTION:MBA Project simulations were held for the MBA students as a part of their semester-long project (Strategic Marketing) on Thursday\, June 27\, 2022\, under the supervision of Dr. Arusa Khalid. \nThe simulation can be very time-constrained\, and solutions and strategies need to be rushed\, making it more entertaining. On the other hand\, it allows for a lot of creativity and going off-script\, as the instructor manages the simulation and can modify conditions to make it even more realistic. Students welcomed their evaluators\, Dr. Saqib Mehmood and Dr. Zoya Wajid\, and explained their project ideas. The evaluators provided students with valuable suggestions.
URL:https://szabist-isb.edu.pk/events-calendar/mba-experiential-learning-activity-2/
CATEGORIES:Spring 2022,SZABIST Events,Workshop
ATTACH;FMTTYPE=image/jpeg:https://szabist-isb.edu.pk/wp-content/uploads/2022/07/290282016_5294283473992105_8222592075328515869_n.jpg
END:VEVENT
END:VCALENDAR