BEGIN:VCALENDAR
VERSION:2.0
PRODID:-//SZABIST University Islamabad - ECPv5.12.2//NONSGML v1.0//EN
CALSCALE:GREGORIAN
METHOD:PUBLISH
X-WR-CALNAME:SZABIST University Islamabad
X-ORIGINAL-URL:https://szabist-isb.edu.pk
X-WR-CALDESC:Events for SZABIST University Islamabad
REFRESH-INTERVAL;VALUE=DURATION:PT1H
X-Robots-Tag:noindex
X-PUBLISHED-TTL:PT1H
BEGIN:VTIMEZONE
TZID:Asia/Karachi
BEGIN:STANDARD
TZOFFSETFROM:+0500
TZOFFSETTO:+0500
TZNAME:PKT
DTSTART:20220101T000000
END:STANDARD
END:VTIMEZONE
BEGIN:VEVENT
DTSTART;VALUE=DATE:20220518
DTEND;VALUE=DATE:20220519
DTSTAMP:20260426T060933
CREATED:20220601T090400Z
LAST-MODIFIED:20220604T112254Z
UID:13962-1652832000-1652918399@szabist-isb.edu.pk
SUMMARY:12th Convocation 2022 - SZABIST Islamabad
DESCRIPTION:(Convocation 2022 – SZABIST Islamabad Campus – Pak-China Friendship Center) \nConvocation day is considered the most significant day for every student. On the graduation day ceremony\, students are awarded academic degrees and they are being praised and appreciated for more success ahead. \nSZABIST Islamabad memorialized its 12th Convocation ceremony on May 18th\, 2022 at Pak China Friendship Center. Where the live coverage of the event took place on a social media platform and FM Radio 106.6 managed to broadcast the live event. A total of 673 students were awarded Bachelor’s\, Master’s\, and Doctoral degrees. \nMadam Chancellor Dr. Azra Fazal Pechuho declared the opening of the convocation ceremony which was followed by the National Anthem and recitation of the Holy Quran.  Senator Sherry Rehman (the Federal Minister of Climate Change) was the chief guest of the ceremony. She along with the President Ms. Shehnaz Wazir Ali\, Vice President Academics Prof. Doc Altaf Mukati and Head of the Campus Mr. Khusro Pervaiz Khan presented the awards to the students and addressed the graduates with their heartwarming wishes. Academic medals were given to the high achievers of SZABIST Islamabad then the graduates took the oath which was administered by Madam President Shehnaz Wazir. The ceremony was declared closed by Madam Chancellor Dr. Azra Fazal Pechuho. \nCongratulations to all the graduates!! \nPicture Gallery\n\n			\n				\n			\n			\n				\n			\n			\n				\n			\n			\n				\n			\n		\n\n\n			\n				\n			\n			\n				\n			\n			\n				\n			\n			\n				\n			\n		\n\n\n			\n				\n			\n			\n				\n			\n			\n				\n			\n			\n				\n			\n		\n\n 
URL:https://szabist-isb.edu.pk/events-calendar/12th-convocation-2022-szabist-islamabad/
CATEGORIES:Spring 2022,SZABIST Events
ATTACH;FMTTYPE=image/jpeg:https://szabist-isb.edu.pk/wp-content/uploads/2022/06/DSC9215-1.jpg
END:VEVENT
END:VCALENDAR