BEGIN:VCALENDAR
VERSION:2.0
PRODID:-//SZABIST University Islamabad - ECPv5.12.2//NONSGML v1.0//EN
CALSCALE:GREGORIAN
METHOD:PUBLISH
X-WR-CALNAME:SZABIST University Islamabad
X-ORIGINAL-URL:https://szabist-isb.edu.pk
X-WR-CALDESC:Events for SZABIST University Islamabad
REFRESH-INTERVAL;VALUE=DURATION:PT1H
X-Robots-Tag:noindex
X-PUBLISHED-TTL:PT1H
BEGIN:VTIMEZONE
TZID:Asia/Karachi
BEGIN:STANDARD
TZOFFSETFROM:+0500
TZOFFSETTO:+0500
TZNAME:PKT
DTSTART:20220101T000000
END:STANDARD
END:VTIMEZONE
BEGIN:VEVENT
DTSTART;VALUE=DATE:20220517
DTEND;VALUE=DATE:20220518
DTSTAMP:20260426T060834
CREATED:20220523T100417Z
LAST-MODIFIED:20220523T100417Z
UID:13925-1652745600-1652831999@szabist-isb.edu.pk
SUMMARY:Field trip organized by SZABIST Islamabad to Pakistan Mercantile Exchange Brokerage Houses
DESCRIPTION:A study trip of BBA derivatives students was arranged under the supervision of Muhammad Irfan Kasana to the leading commodity brokerage houses of the Pakistan Mercantile Exchange situated in ISE Towers Islamabad. The students were enlightened with the mechanics of the derivatives industry by the industry experts. At first\, students visited ZLK Securities limited where Mr. Muhammad Hamza (Commodity Market Consultant) briefed the students about the market with a special focus on brokerage house operations and market dynamics. After this\, the students visited Enrichers Pvt Limited\, where Mr. Hassan Mehmood\, CEO of Enrichers welcomed the students. Mr. Hassan provides in-depth knowledge of the derivatives industry. He further briefed how one can start investing wisely in this market. Both presenters imparted practical knowledge to the students.
URL:https://szabist-isb.edu.pk/events-calendar/field-trip-organized-by-szabist-islamabad-to-pakistan-mercantile-exchange-brokerage-houses/
CATEGORIES:Spring 2022,SZABIST Events
ATTACH;FMTTYPE=image/jpeg:https://szabist-isb.edu.pk/wp-content/uploads/2022/05/visit-group-pic-1.jpeg
END:VEVENT
END:VCALENDAR