BEGIN:VCALENDAR
VERSION:2.0
PRODID:-//SZABIST University Islamabad - ECPv5.12.2//NONSGML v1.0//EN
CALSCALE:GREGORIAN
METHOD:PUBLISH
X-WR-CALNAME:SZABIST University Islamabad
X-ORIGINAL-URL:https://szabist-isb.edu.pk
X-WR-CALDESC:Events for SZABIST University Islamabad
REFRESH-INTERVAL;VALUE=DURATION:PT1H
X-Robots-Tag:noindex
X-PUBLISHED-TTL:PT1H
BEGIN:VTIMEZONE
TZID:Asia/Karachi
BEGIN:STANDARD
TZOFFSETFROM:+0500
TZOFFSETTO:+0500
TZNAME:PKT
DTSTART:20220101T000000
END:STANDARD
END:VTIMEZONE
BEGIN:VEVENT
DTSTART;VALUE=DATE:20220427
DTEND;VALUE=DATE:20220428
DTSTAMP:20260426T060830
CREATED:20220917T083054Z
LAST-MODIFIED:20220917T083054Z
UID:14834-1651017600-1651103999@szabist-isb.edu.pk
SUMMARY:Essay Writing Competition
DESCRIPTION:Essay Writing Competition \nBBA Department of Management Sciences SZABIST Islamabad organized an Essay\nWriting Competition on the topic “A Lesson of History\, A Lesson of Life” for the students of\nBBA 2 section A\,B \, C and BSAF 2 A on 27th April \,2022. \nThe event was organized by Dr.Iffat Rasool and Ms Uzma Sheryar. The objective of the event was to advance the soft and\ncreative skills of under graduate level students. The competition will stimulate their ability to\nthink innovatively in both academic and professional settings. \n  \n\n			\n				\n			\n			\n				\n			\n		\n\n 
URL:https://szabist-isb.edu.pk/events-calendar/essay-writing-competition/
CATEGORIES:00 - Event Categories,Semester Activities,Spring 2022,SZABIST Events
ATTACH;FMTTYPE=image/jpeg:https://szabist-isb.edu.pk/wp-content/uploads/2022/09/Essay-Writing-Competition-pic-2.jpg
END:VEVENT
END:VCALENDAR