BEGIN:VCALENDAR
VERSION:2.0
PRODID:-//SZABIST University Islamabad - ECPv5.12.2//NONSGML v1.0//EN
CALSCALE:GREGORIAN
METHOD:PUBLISH
X-WR-CALNAME:SZABIST University Islamabad
X-ORIGINAL-URL:https://szabist-isb.edu.pk
X-WR-CALDESC:Events for SZABIST University Islamabad
REFRESH-INTERVAL;VALUE=DURATION:PT1H
X-Robots-Tag:noindex
X-PUBLISHED-TTL:PT1H
BEGIN:VTIMEZONE
TZID:Asia/Karachi
BEGIN:STANDARD
TZOFFSETFROM:+0500
TZOFFSETTO:+0500
TZNAME:PKT
DTSTART:20220101T000000
END:STANDARD
END:VTIMEZONE
BEGIN:VEVENT
DTSTART;VALUE=DATE:20220401
DTEND;VALUE=DATE:20220402
DTSTAMP:20260426T060836
CREATED:20220404T070515Z
LAST-MODIFIED:20220404T070515Z
UID:13718-1648771200-1648857599@szabist-isb.edu.pk
SUMMARY:An Activity “Plant a Tree Plant a Life” at SZABIST Islamabad
DESCRIPTION:“Plant a Tree Plant a Life” \n\n\n\nLeverify (a US-based E-commerce company) collaborated with SZABIST Islamabad in planting trees\, The purpose of this activity was to contribute to the vision of Clean Green Pakistan. SZABIST Islamabad played its part in creating a pollution-free environment for our future generations. \n\n\n 
URL:https://szabist-isb.edu.pk/events-calendar/an-activity-plant-a-tree-plant-a-life-at-szabist-islamabad/
CATEGORIES:Spring 2022,SZABIST Events
ATTACH;FMTTYPE=image/jpeg:https://szabist-isb.edu.pk/wp-content/uploads/2022/04/356A3996-1.jpg
END:VEVENT
BEGIN:VEVENT
DTSTART;TZID=Asia/Karachi:20220401T080000
DTEND;TZID=Asia/Karachi:20220401T170000
DTSTAMP:20260426T060836
CREATED:20220920T111409Z
LAST-MODIFIED:20220920T111409Z
UID:14866-1648800000-1648832400@szabist-isb.edu.pk
SUMMARY:Experiential Learning on Environmental Protection
DESCRIPTION:Experiential Learning on Environmental Protection \nThe students of Social Advocacy &amp; Community Services BBA 6 Spring 2022 in\ncollaboration with the Social Responsibility club of SZABIST Islamabad attended\nthe forum on Environmental Impact Assessment on 1st April 2022. The forum\nwas organized by the Pakistan Environmental Protection Agency (Pak-EPA) Ministry\nof Climate Change Islamabad and the Pakistan Public Works Department (Pak-PWD)\nIslamabad. The objective of providing this platform to students was to develop their\nawareness of students for issues related to the environment and the remedies taken by\nthe Environmental agencies.
URL:https://szabist-isb.edu.pk/events-calendar/experiential-learning-on-environmental-protection/
CATEGORIES:00 - Event Categories,Forums,Spring 2022,SZABIST Events
ATTACH;FMTTYPE=image/jpeg:https://szabist-isb.edu.pk/wp-content/uploads/2022/09/CSR-Club-Experiential-Learning-pic-2.jpg
END:VEVENT
END:VCALENDAR