BEGIN:VCALENDAR
VERSION:2.0
PRODID:-//SZABIST University Islamabad - ECPv5.12.2//NONSGML v1.0//EN
CALSCALE:GREGORIAN
METHOD:PUBLISH
X-WR-CALNAME:SZABIST University Islamabad
X-ORIGINAL-URL:https://szabist-isb.edu.pk
X-WR-CALDESC:Events for SZABIST University Islamabad
REFRESH-INTERVAL;VALUE=DURATION:PT1H
X-Robots-Tag:noindex
X-PUBLISHED-TTL:PT1H
BEGIN:VTIMEZONE
TZID:Asia/Karachi
BEGIN:STANDARD
TZOFFSETFROM:+0500
TZOFFSETTO:+0500
TZNAME:PKT
DTSTART:20220101T000000
END:STANDARD
END:VTIMEZONE
BEGIN:VEVENT
DTSTART;VALUE=DATE:20220331
DTEND;VALUE=DATE:20220401
DTSTAMP:20260426T061033
CREATED:20220419T071057Z
LAST-MODIFIED:20220419T071057Z
UID:13806-1648684800-1648771199@szabist-isb.edu.pk
SUMMARY:Skin care and a free medical camp AT SZABIST Islamabad
DESCRIPTION:SZABIST Dramatic Society arranged a session on Skincare and a free medical camp. The session was led by “Dr Nada”- Dermatologist and Skin Care Expert. She answered the students’ queries and gave them detail orientation about diet and daily food intake required for healthy skin. Her focus was also on the malpractices followed by youth today to beautify their skins and the harmful effect on overall health.\nMs. Sana Mukhtar- Lecturer Social Sciences concluded the session by awarding shield to the guest speaker.
URL:https://szabist-isb.edu.pk/events-calendar/skin-care-and-a-free-medical-camp-at-szabist-islamabad/
CATEGORIES:Spring 2022,SZABIST Events
ATTACH;FMTTYPE=image/jpeg:https://szabist-isb.edu.pk/wp-content/uploads/2022/04/356A3742-1.jpg
END:VEVENT
END:VCALENDAR