BEGIN:VCALENDAR
VERSION:2.0
PRODID:-//SZABIST University Islamabad - ECPv5.12.2//NONSGML v1.0//EN
CALSCALE:GREGORIAN
METHOD:PUBLISH
X-WR-CALNAME:SZABIST University Islamabad
X-ORIGINAL-URL:https://szabist-isb.edu.pk
X-WR-CALDESC:Events for SZABIST University Islamabad
REFRESH-INTERVAL;VALUE=DURATION:PT1H
X-Robots-Tag:noindex
X-PUBLISHED-TTL:PT1H
BEGIN:VTIMEZONE
TZID:Asia/Karachi
BEGIN:STANDARD
TZOFFSETFROM:+0500
TZOFFSETTO:+0500
TZNAME:PKT
DTSTART:20220101T000000
END:STANDARD
END:VTIMEZONE
BEGIN:VEVENT
DTSTART;VALUE=DATE:20220329
DTEND;VALUE=DATE:20220330
DTSTAMP:20260426T060939
CREATED:20220404T075604Z
LAST-MODIFIED:20220404T075732Z
UID:13727-1648512000-1648598399@szabist-isb.edu.pk
SUMMARY:A Student Visit to Islamabad Policy Research Institute (IPRI) of SZABIST Islamabad
DESCRIPTION:BS Social Sciences International Relations’ students visited Islamabad Policy Research Institute (IPRI) on 29th March \, 2022.\n      \n\n\nIPRI\, established in 1999\, is one of the oldest non-partisan think-tanks. It is affiliated with the National Security Division\, Government of Pakistan. As part of IPRI’s vision to include youth in the process of policy and governance along with think tanks\, a special briefing and interactive session was arranged. Overall activity was a great learning and progress opportunity for students.
URL:https://szabist-isb.edu.pk/events-calendar/a-study-visit-to-islamabad-policy-research-institute-ipri-of-szabist-islamabad/
CATEGORIES:Spring 2022,SZABIST Events
ATTACH;FMTTYPE=image/jpeg:https://szabist-isb.edu.pk/wp-content/uploads/2022/04/7.jpg
END:VEVENT
END:VCALENDAR