BEGIN:VCALENDAR
VERSION:2.0
PRODID:-//SZABIST University Islamabad - ECPv5.12.2//NONSGML v1.0//EN
CALSCALE:GREGORIAN
METHOD:PUBLISH
X-WR-CALNAME:SZABIST University Islamabad
X-ORIGINAL-URL:https://szabist-isb.edu.pk
X-WR-CALDESC:Events for SZABIST University Islamabad
REFRESH-INTERVAL;VALUE=DURATION:PT1H
X-Robots-Tag:noindex
X-PUBLISHED-TTL:PT1H
BEGIN:VTIMEZONE
TZID:Asia/Karachi
BEGIN:STANDARD
TZOFFSETFROM:+0500
TZOFFSETTO:+0500
TZNAME:PKT
DTSTART:20220101T000000
END:STANDARD
END:VTIMEZONE
BEGIN:VEVENT
DTSTART;VALUE=DATE:20220317
DTEND;VALUE=DATE:20220318
DTSTAMP:20260426T074033
CREATED:20220324T114459Z
LAST-MODIFIED:20220324T114459Z
UID:13663-1647475200-1647561599@szabist-isb.edu.pk
SUMMARY:SZABIST Islamabad at City school national college Fair
DESCRIPTION:               \n  \nSZABIST Islamabad admission team participated in City school national college Fair on 17 March 2022 at 10:00 am. The team included Ms. Ayesha Mustafa\, Muhammad Shafiq & Manager Admissions\, 20+ other universities also participated in the fair\, and a large number of students visited the stalls who had queries about program offering\, eligibility criteria\, etc.
URL:https://szabist-isb.edu.pk/events-calendar/szabist-islamabad-at-city-school-national-college-fair-student-counselling/
CATEGORIES:Spring 2022,SZABIST Events
ATTACH;FMTTYPE=image/jpeg:https://szabist-isb.edu.pk/wp-content/uploads/2022/03/275679492_5018227961597659_5107329338421105543_n.jpg
END:VEVENT
END:VCALENDAR