BEGIN:VCALENDAR
VERSION:2.0
PRODID:-//SZABIST University Islamabad - ECPv5.12.2//NONSGML v1.0//EN
CALSCALE:GREGORIAN
METHOD:PUBLISH
X-WR-CALNAME:SZABIST University Islamabad
X-ORIGINAL-URL:https://szabist-isb.edu.pk
X-WR-CALDESC:Events for SZABIST University Islamabad
REFRESH-INTERVAL;VALUE=DURATION:PT1H
X-Robots-Tag:noindex
X-PUBLISHED-TTL:PT1H
BEGIN:VTIMEZONE
TZID:Asia/Karachi
BEGIN:STANDARD
TZOFFSETFROM:+0500
TZOFFSETTO:+0500
TZNAME:PKT
DTSTART:20220101T000000
END:STANDARD
END:VTIMEZONE
BEGIN:VEVENT
DTSTART;VALUE=DATE:20220301
DTEND;VALUE=DATE:20220302
DTSTAMP:20260426T074019
CREATED:20220302T120233Z
LAST-MODIFIED:20220302T120233Z
UID:13524-1646092800-1646179199@szabist-isb.edu.pk
SUMMARY:Free Medical Camp at SZABIST Islamabad
DESCRIPTION:A free Medical Camp was being organized at SZABIST ISB on Tuesday\, March 1\, 2022\, in collaboration with The Diabetes Centre – Pakistan in the area of Basketball Court. \nThe following free-of-cost services were provided to the Faculty\, Staff\, and Students. \n1. Health Assessments\n2. Nutritionist Consultation \n3. Diabetologist Consultation\n4. Eye Case Screening \n  \n 
URL:https://szabist-isb.edu.pk/events-calendar/free-medical-camp-at-szabist-islamabad/
CATEGORIES:Spring 2022,SZABIST Events
ATTACH;FMTTYPE=image/jpeg:https://szabist-isb.edu.pk/wp-content/uploads/2022/03/356A8327-1.jpg
END:VEVENT
BEGIN:VEVENT
DTSTART;VALUE=DATE:20220301
DTEND;VALUE=DATE:20220302
DTSTAMP:20260426T074019
CREATED:20220308T061246Z
LAST-MODIFIED:20220308T061246Z
UID:13608-1646092800-1646179199@szabist-isb.edu.pk
SUMMARY:Red Bull at SZABIST Islamabad
DESCRIPTION:  \n  \n  \nSZABIST Islamabad in collaboration with Red Bull organized a fun-filled activity for the students. Healthy competition was held among students under the title “Paper Wings’’ where each student was given a piece of paper and asked to make a plan out of it. Paper plane pilots were tested with their creativity\, imagination\, and technical paper plane skills in the Distance competition.
URL:https://szabist-isb.edu.pk/events-calendar/red-bull-at-szabist-islamabad/
CATEGORIES:Spring 2022,SZABIST Events
ATTACH;FMTTYPE=image/jpeg:https://szabist-isb.edu.pk/wp-content/uploads/2022/03/356A8360-1.jpg
END:VEVENT
END:VCALENDAR