BEGIN:VCALENDAR
VERSION:2.0
PRODID:-//SZABIST University Islamabad - ECPv5.12.2//NONSGML v1.0//EN
CALSCALE:GREGORIAN
METHOD:PUBLISH
X-WR-CALNAME:SZABIST University Islamabad
X-ORIGINAL-URL:https://szabist-isb.edu.pk
X-WR-CALDESC:Events for SZABIST University Islamabad
REFRESH-INTERVAL;VALUE=DURATION:PT1H
X-Robots-Tag:noindex
X-PUBLISHED-TTL:PT1H
BEGIN:VTIMEZONE
TZID:Asia/Karachi
BEGIN:STANDARD
TZOFFSETFROM:+0500
TZOFFSETTO:+0500
TZNAME:PKT
DTSTART:20250101T000000
END:STANDARD
END:VTIMEZONE
BEGIN:VEVENT
DTSTART;VALUE=DATE:20250209
DTEND;VALUE=DATE:20250210
DTSTAMP:20260423T153729
CREATED:20250209T105009Z
LAST-MODIFIED:20250214T105450Z
UID:28329-1739059200-1739145599@szabist-isb.edu.pk
SUMMARY:Certification of Monitoring & Evaluation at SZABIST for CPMP!
DESCRIPTION:Certification of Monitoring & Evaluation at SZABIST for CPMP!\n\n\n\nUnder the umbrella of Certified Project Management Professionals (CPMP)\, We successfully concluded certification on Monitoring & Evaluation at SZABIST on 8th & 9th February 2025!\n\n\n\nThis insightful session covered:\n Principles & frameworks of M&E\n Practical tools for impact assessment\n Data collection & analysis techniques\n Real-world case studies & best practices\n\n\n\nParticipants gained hands-on experience and valuable skills to enhance project effectiveness and decision-making.\n\n\nA big thank you to our expert trainer and engaged participants for making this event a success!\n\n\n\n 
URL:https://szabist-isb.edu.pk/events-calendar/certification-of-monitoring-evaluation-at-szabist-for-cpmp/
CATEGORIES:Spring 2025,SZABIST Events,Workshop
ATTACH;FMTTYPE=image/jpeg:https://szabist-isb.edu.pk/wp-content/uploads/2025/02/AI6A0645-11111111111111111111111.jpg
END:VEVENT
BEGIN:VEVENT
DTSTART;VALUE=DATE:20250212
DTEND;VALUE=DATE:20250213
DTSTAMP:20260423T153729
CREATED:20250212T110032Z
LAST-MODIFIED:20250212T110032Z
UID:28292-1739318400-1739404799@szabist-isb.edu.pk
SUMMARY:Spring 2025 Orientation Week Highlights – SZABIST University Islamabad
DESCRIPTION:Spring 2025 Orientation Week Highlights – SZABIST University Islamabad\n\n\n\nSZABIST Islamabad proudly welcomed its newest students\, introducing them to a world of learning\, innovation\, and endless possibilities. Through academic guidance and program explorations\, students took their first steps toward a bright and successful future with confidence and enthusiasm.\n\n\n\nWe look forward to seeing them excel\, achieve their goals\, and take full advantage of the incredible opportunities that SZABIST offers. Welcome to the SZABIST family—where aspirations turn into achievements!\n\n\n\n 
URL:https://szabist-isb.edu.pk/events-calendar/spring-2025-orientation-week-highlights-szabist-university-islamabad/
CATEGORIES:Orientations,SZABIST Events
ATTACH;FMTTYPE=image/jpeg:https://szabist-isb.edu.pk/wp-content/uploads/2025/02/356A7400-1444444444444444444444444.jpg
END:VEVENT
BEGIN:VEVENT
DTSTART;VALUE=DATE:20250218
DTEND;VALUE=DATE:20250219
DTSTAMP:20260423T153729
CREATED:20250218T054003Z
LAST-MODIFIED:20250221T054604Z
UID:28366-1739836800-1739923199@szabist-isb.edu.pk
SUMMARY:Visit to Institute of Rural Management
DESCRIPTION:Visit to Institute of Rural Management \nOn 18 Feb 2025\, a visit to the Institute of Rural Management was organized for the BSSS-4 Organizational Psychology students. Agha Zafar Ali\, General Manager with 30 years of experience in a broad range of sectoral interventions\, including human resources\, infrastructure development\, environmental management\, health\, education\, and social mobilization conducted an insightful session. He discussed key organizational psychology topics such as productive behaviors in organizations\, employee selection (recruiting\, interviewing\, references\, and testing)\, job analysis and job satisfaction versus counterproductive behaviors. The session provided students with valuable industry knowledge and practical insights. \nAt the end of the session\, Miss Maria Rafique (Senior Lecturer\, Department of Social Sciences) presented a shield and expressed gratitude to the host for his time and contributions. \n  \n 
URL:https://szabist-isb.edu.pk/events-calendar/visit-to-institute-of-rural-management/
CATEGORIES:Spring 2025,SZABIST Events,Visits
ATTACH;FMTTYPE=image/jpeg:https://szabist-isb.edu.pk/wp-content/uploads/2025/02/WhatsApp-Image-2025-02-19-at-1.20.51-PM-jhjhjhjhjhjhjh.jpg
END:VEVENT
END:VCALENDAR