BEGIN:VCALENDAR
VERSION:2.0
PRODID:-//SZABIST University Islamabad - ECPv5.12.2//NONSGML v1.0//EN
CALSCALE:GREGORIAN
METHOD:PUBLISH
X-WR-CALNAME:SZABIST University Islamabad
X-ORIGINAL-URL:https://szabist-isb.edu.pk
X-WR-CALDESC:Events for SZABIST University Islamabad
REFRESH-INTERVAL;VALUE=DURATION:PT1H
X-Robots-Tag:noindex
X-PUBLISHED-TTL:PT1H
BEGIN:VTIMEZONE
TZID:Asia/Karachi
BEGIN:STANDARD
TZOFFSETFROM:+0500
TZOFFSETTO:+0500
TZNAME:PKT
DTSTART:20240101T000000
END:STANDARD
END:VTIMEZONE
BEGIN:VEVENT
DTSTART;TZID=Asia/Karachi:20240801T090000
DTEND;TZID=Asia/Karachi:20240801T170000
DTSTAMP:20260423T233811
CREATED:20250710T110911Z
LAST-MODIFIED:20250710T112429Z
UID:29006-1722502800-1722531600@szabist-isb.edu.pk
SUMMARY:CAPACITY BUILDING “HANDS-ON WORKSHOP” ON BUSINESS ANALYTICAL TOOLS
DESCRIPTION:On 1st August 2024\, a Power BI Workshop SZABIST Islamabad was held at the university’s Islamabad campus. Organized by the Department of Management Sciences\, this hands-on training was part of SZABIST’s ongoing Faculty Development Program and focused on equipping faculty and staff with essential business analytics skills. \nThe workshop introduced participants to Power BI\, allowing them to learn how to clean\, transform\, and visualize data through dashboards and dynamic models. The goal was to help faculty members integrate analytical tools like Power BI into teaching\, student supervision\, and academic research\, particularly in capstone projects and business data analysis. \nLed by Mr. Syed Shahwar Hussain\, a seasoned academic and industry expert with over 15 years of experience\, the session provided practical strategies grounded in real-world applications. Mr. Hussain\, a respected faculty member of the Management Sciences Department at SZABIST\, specializes in Business Analysis\, Digital Marketing\, and Social Media Strategy. \nThis Power BI Workshop at SZABIST Islamabad reflects the university’s commitment to professional growth and technological advancement in academia. \n 
URL:https://szabist-isb.edu.pk/events-calendar/capacity-building-hands-on-workshop-on-business-analytical-tools/
CATEGORIES:PEDC-Event,PEDC-Summer-2025,Summer 2024,SZABIST Events,Workshop
ATTACH;FMTTYPE=image/png:https://szabist-isb.edu.pk/wp-content/uploads/2025/07/481264295_952013643711751_3367988202537397862_n.png
END:VEVENT
BEGIN:VEVENT
DTSTART;TZID=Asia/Karachi:20240809T100000
DTEND;TZID=Asia/Karachi:20240809T140000
DTSTAMP:20260423T233811
CREATED:20250711T112511Z
LAST-MODIFIED:20250711T112907Z
UID:29057-1723197600-1723212000@szabist-isb.edu.pk
SUMMARY:Role Diversity of Faculty for Innovation
DESCRIPTION:On August 9\, 2023\, the Department of Management Sciences at SZABIST University Islamabad launched a visionary faculty development initiative with its first session titled “Role Diversity of Faculty for Innovation.” The Faculty Innovation Workshop SZABIST Islamabad set the tone for a series of future-forward academic training sessions aimed at equipping faculty with new skills and perspectives. \nThis inaugural session was designed to promote dynamic teaching strategies and multidisciplinary approaches that support innovative learning. The workshop emphasized the evolving role of faculty in preparing students for an increasingly complex and rapidly changing global landscape. \nThe Faculty Innovation Workshop SZABIST Islamabad featured Dr. Hina Shahab\, Head of Department at NUML University\, as the guest speaker. She shared valuable insights on moving beyond traditional teaching roles and embracing flexible\, creative approaches in higher education. Dr. Shahab’s session highlighted the significance of role diversity\, cross-disciplinary learning\, and active participation in shaping innovation-oriented academic cultures. \nFaculty attendees were encouraged to reimagine their contribution not just as subject experts but also as innovators\, mentors\, and change agents. The workshop’s focus on adaptability and innovation supports SZABIST’s long-term mission of academic excellence and global relevance. \nThis initiative reflects SZABIST University’s commitment to transforming education through meaningful professional development and interdisciplinary collaboration. By fostering an environment that values experimentation and thought leadership\, the university continues to empower its faculty to lead innovation in the classroom and beyond.
URL:https://szabist-isb.edu.pk/events-calendar/role-diversity-of-faculty-for-innovation/
CATEGORIES:PEDC-Event,PEDC-Summer-2025,Summer 2024,Workshop
ATTACH;FMTTYPE=image/png:https://szabist-isb.edu.pk/wp-content/uploads/2025/07/Screenshot-2025-07-11-at-4.12.58-PM.png
END:VEVENT
BEGIN:VEVENT
DTSTART;VALUE=DATE:20240815
DTEND;VALUE=DATE:20240816
DTSTAMP:20260423T233811
CREATED:20240815T093204Z
LAST-MODIFIED:20240903T102354Z
UID:26082-1723680000-1723766399@szabist-isb.edu.pk
SUMMARY:The Use of Machine Learning in Management Science Research
DESCRIPTION:The Use of Machine Learning in Management Science Research \nDate: August 15th\, 2024\nOrganized By: Dr. Raazia Gul\, Head\, RIG (Finance)\, Research Centre\, SZABIST University Islamabad \nObjective and Learning Outcomes \nThe objective of the workshop was to enhance faculty capabilities in applying machine learning techniques across various fields\, including Finance\, HR\, and Marketing. This training was part of the ongoing Faculty Development Workshop Series at SZABIST University Islamabad and aimed to provide participants with hands-on experience and advanced analytical skills to improve their research methodologies and decision-making processes. \nSpeaker’s Profile \nMs. Hajra Murtaza\, the expert facilitator for the workshop\, is a Senior Lecturer at Riphah International University with over 20 years of teaching experience. She specializes in machine learning and synthetic data generation\, bringing extensive knowledge and practical expertise to the workshop. \nHighlights of the Workshop \nThe workshop provided an in-depth exploration of advanced methods for analyzing and interpreting complex datasets. Participants learned to leverage these techniques to draw meaningful insights from data\, a crucial skill in today’s data-driven world. Faculty members gained valuable insights into incorporating machine learning into their research methodologies. This knowledge is expected to enhance their ability to conduct robust\, data-driven research\, ultimately improving decision-making in their respective fields. \nAudience Response \nThe workshop was well-received\, with enthusiastic participation from faculty members. The interactive format encouraged active engagement and facilitated a deeper understanding of the material. Participants appreciated the practical exercises and the opportunity to apply machine-learning techniques to their research.
URL:https://szabist-isb.edu.pk/events-calendar/the-use-of-machine-learning-in-management-science-research/
CATEGORIES:Summer 2024,SZABIST Events
ATTACH;FMTTYPE=image/jpeg:https://szabist-isb.edu.pk/wp-content/uploads/2024/08/356A8490-1.jpg
END:VEVENT
BEGIN:VEVENT
DTSTART;TZID=Asia/Karachi:20240815T000000
DTEND;TZID=Asia/Karachi:20240815T150000
DTSTAMP:20260423T233811
CREATED:20250710T114049Z
LAST-MODIFIED:20250710T114237Z
UID:29021-1723680000-1723734000@szabist-isb.edu.pk
SUMMARY:The Use of Machine Learning in Management Science Research Workshop
DESCRIPTION:On August 15th\, 2024\, a training workshop titled “The Use of Machine Learning in Management Science Research” was held at the SZABIST University Islamabad Campus\, organized by Dr. Raazia Gul\, Head of RIG (Finance) at the Research Centre. This session was part of SZABIST’s ongoing Faculty Development Workshop Series\, designed to enhance the research capabilities of faculty and staff. \nThe primary goal of the workshop was to build faculty expertise in applying machine learning techniques to academic research\, particularly within the disciplines of Finance\, Human Resources\, and Marketing. The workshop emphasized practical\, real-world applications of machine learning\, with a strong focus on hands-on learning experiences. \nParticipants worked directly with datasets to build and improve machine learning models\, gaining exposure to advanced analytical methods for interpreting complex data. In addition to understanding the theoretical frameworks\, faculty members explored how to integrate machine learning into their own research processes\, resulting in improved decision-making and evidence-based outcomes. \nThe session was expertly facilitated by Ms. Hajra Murtaza\, a professional recognized for her deep expertise in machine learning and synthetic data generation. Her guidance provided the participants with valuable insights and essential skills needed to apply these tools in a research-driven academic environment. \nThe event reflects SZABIST’s dedication to continuous faculty development and staying at the forefront of emerging technologies in academic research.
URL:https://szabist-isb.edu.pk/events-calendar/the-use-of-machine-learning-in-management-science-research-workshop/
CATEGORIES:PEDC-Event,PEDC-Summer-2025,Summer 2024,Workshop
ATTACH;FMTTYPE=image/png:https://szabist-isb.edu.pk/wp-content/uploads/2025/07/481265547_952017827044666_5950951413522459643_n.png
END:VEVENT
BEGIN:VEVENT
DTSTART;TZID=Asia/Karachi:20240817T140000
DTEND;TZID=Asia/Karachi:20240817T170000
DTSTAMP:20260423T233811
CREATED:20250711T105521Z
LAST-MODIFIED:20250711T105521Z
UID:29041-1723903200-1723914000@szabist-isb.edu.pk
SUMMARY:WORKSHOP "PROPOSAL WRITING FOR DONORS FUNDING
DESCRIPTION:On August 17\, 2024\, SZABIST University Islamabad organized a Proposal Writing Workshop SZABIST Islamabad under the Faculty Learning and Development initiative. The session\, titled “Proposal Writing for Donors Funding\,” aimed to empower faculty members with the skills needed to develop persuasive and fundable proposals for external support. The event was coordinated by Dr. Khansa Zaman\, reinforcing SZABIST’s commitment to academic development and external funding engagement. \nIn today’s highly competitive academic environment\, donor funding plays a vital role in advancing research\, infrastructure\, and institutional growth. The workshop was officially inaugurated by Dr. Khansa Zaman and led by Mr. Kashif Sehgal\, a respected development consultant with extensive experience in grant writing and donor communications. \nDuring the Proposal Writing Workshop SZABIST Islamabad\, participants learned how to identify suitable funding opportunities\, structure a clear and compelling proposal\, align objectives with donor expectations\, and develop justified budgets. The session emphasized clarity\, impact\, and strategic alignment with donor missions. \nInteractive discussions and real-time feedback allowed faculty members to apply these principles through hands-on practice. They explored how to present their project ideas convincingly and articulate the potential value and outcomes for donors. \nDr. Muhammad Asif\, Associate Dean of Management Sciences\, and Dr. Shazia Akhtar\, Head of the Department of Management Sciences\, both expressed their appreciation for the faculty’s active participation. They acknowledged that such training is critical for developing a research-focused academic culture that thrives on innovation and external collaboration. \nThe Proposal Writing Workshop SZABIST Islamabad is part of a broader series of capacity-building initiatives aimed at enhancing the skills and visibility of the faculty through continuous professional development. SZABIST continues to lead by example in cultivating a research-driven\, globally engaged academic environment.
URL:https://szabist-isb.edu.pk/events-calendar/workshop-proposal-writing-for-donors-funding-2/
CATEGORIES:PEDC-Event,PEDC-Summer-2025,Summer 2024,Workshop
ATTACH;FMTTYPE=image/png:https://szabist-isb.edu.pk/wp-content/uploads/2025/07/Screenshot-2025-07-11-at-3.42.14-PM.png
END:VEVENT
BEGIN:VEVENT
DTSTART;TZID=Asia/Karachi:20240821T140000
DTEND;TZID=Asia/Karachi:20240821T170000
DTSTAMP:20260423T233811
CREATED:20250710T121428Z
LAST-MODIFIED:20250710T121633Z
UID:29028-1724248800-1724259600@szabist-isb.edu.pk
SUMMARY:Digital Teaching Practices Workshop SZABIST Islamabad
DESCRIPTION:On August 21\, 2024\, the Department of Management Sciences at SZABIST University Islamabad conducted a focused Digital Teaching Practices Workshop SZABIST Islamabad\, under its Faculty Development Initiative. The session was designed to strengthen the teaching capabilities of faculty and staff by introducing modern digital tools and practices in education. \nLed by Dr. Muhammad Faisal\, Assistant Professor in the Management Sciences Department\, the workshop emphasized the integration of Google Workspace tools into daily teaching practices. The goal of the Digital Teaching Practices Workshop SZABIST Islamabad was to build educators’ confidence in using digital platforms for assessments\, feedback\, and classroom engagement. \nThe workshop took place in Lab-3\, creating an interactive and hands-on learning environment. Faculty members were introduced to applications such as Google Classroom\, Google Docs\, Google Sheets\, and Google Forms. These tools were presented as part of a cohesive digital teaching strategy designed to support collaboration\, streamline assignment management\, and simplify student evaluation. \nThroughout the Digital Teaching Workshop SZABIST Islamabad\, participants engaged in practical activities\, including setting up digital classrooms\, designing online assessments\, and testing real-time feedback mechanisms. The session also addressed common challenges faced during online and hybrid teaching\, offering solutions through effective digital pedagogy. \nA key focus of the workshop was on creating effective digital assessments. Educators learned how to develop quizzes and assignments using Google Forms and how to manage digital submissions efficiently. Feedback strategies were also discussed\, highlighting how Google tools can be used to offer timely\, constructive responses to student work. \nThe faculty expressed a high level of satisfaction with the Digital Teaching Practices Workshop SZABIST Islamabad\, noting that it provided them with immediately applicable skills. The practical format helped participants translate knowledge into action during the training itself. \nIn his closing remarks\, Dr. Muhammad Asif\, Dean of the Faculty of Management Sciences\, commended the efforts of Dr. Muhammad Faisal and appreciated the faculty’s engagement with the session. He emphasized the university’s continued support for digital teaching innovation. \nThe Digital Teaching Workshop SZABIST Islamabad reflects the institution’s broader commitment to modernizing academic practices and enhancing student learning experiences through technology.
URL:https://szabist-isb.edu.pk/events-calendar/digital-teaching-practices-workshop-szabist-islamabad/
CATEGORIES:PEDC-Event,PEDC-Summer-2025,Summer 2024,Workshop
ATTACH;FMTTYPE=image/png:https://szabist-isb.edu.pk/wp-content/uploads/2025/07/Screenshot-2025-07-10-at-4.49.13-PM.png
END:VEVENT
BEGIN:VEVENT
DTSTART;VALUE=DATE:20240829
DTEND;VALUE=DATE:20240830
DTSTAMP:20260423T233811
CREATED:20240829T092340Z
LAST-MODIFIED:20241010T064624Z
UID:26744-1724889600-1724975999@szabist-isb.edu.pk
SUMMARY:How to Win a Research Grant - Workshop
DESCRIPTION:How to Win a Research Grant – Workshop\n\n\n\nDate: August 29th\, 2024\n\n\nOrganized By: Dr. Raazia Gul\, Head\, RIG (Finance)\, Research Centre\, SZABIST University Islamabad\n\n\n\nObjective and Learning Outcomes\n\nThe objective of the workshop was to equip faculty members with essential skills to craft successful research grant proposals. This training session was part of SZABIST University Islamabad’s ongoing Faculty Development Workshop Series. The session aimed to enhance participants’ abilities in securing research funding by providing in-depth guidance on writing competitive grant applications\, aligning proposals with funding priorities\, and navigating the grant evaluation process.\n\n\n\n\nSpeaker’s Profile\n\nDr. Muhammad Abbas\, the expert facilitator for the session\, is a Professor of Management at FAST School of Management\, National University of Computer and Emerging Sciences\, Islamabad. With over 15 years of experience in academia and industry\, his research has been published in top-tier journals\, including those ranked in the Financial Times (FT-50) list. Dr. Abbas has also received multiple awards from Pakistan’s Higher Education Commission\, including the ‘Best Young Scholar Award’ for three consecutive years and the ‘Best Research Paper Award.’ His expertise extends to organizational behavior\, leadership\, business education\, people analytics\, and algorithmic HRM\, making him a valuable asset in helping faculty members navigate the competitive world of research funding.\n\n\n\nHighlights of the Workshop\n\nThe workshop focused on key strategies for developing successful research proposals. Participants were guided through the process of identifying suitable funding opportunities\, structuring their proposals effectively\, and demonstrating the potential impact of their research. Dr. Abbas shared insider tips on understanding the evaluation criteria of grant agencies and provided participants with real-world examples to illustrate the common pitfalls in grant writing.\n\n\n\nAudience Response\n\nThe session was well-attended\, with faculty members expressing appreciation for the practical insights and actionable advice provided. The interactive format of the workshop allowed participants to engage in discussions\, ask questions\, and gain clarity on the intricacies of securing research funding.
URL:https://szabist-isb.edu.pk/events-calendar/how-to-win-a-research-grant-workshop/
CATEGORIES:Summer 2024,SZABIST Events,Workshop
ATTACH;FMTTYPE=image/jpeg:https://szabist-isb.edu.pk/wp-content/uploads/2024/10/356A9461-1.jpg
END:VEVENT
END:VCALENDAR