BEGIN:VCALENDAR
VERSION:2.0
PRODID:-//SZABIST University Islamabad - ECPv5.12.2//NONSGML v1.0//EN
CALSCALE:GREGORIAN
METHOD:PUBLISH
X-WR-CALNAME:SZABIST University Islamabad
X-ORIGINAL-URL:https://szabist-isb.edu.pk
X-WR-CALDESC:Events for SZABIST University Islamabad
REFRESH-INTERVAL;VALUE=DURATION:PT1H
X-Robots-Tag:noindex
X-PUBLISHED-TTL:PT1H
BEGIN:VTIMEZONE
TZID:Asia/Karachi
BEGIN:STANDARD
TZOFFSETFROM:+0500
TZOFFSETTO:+0500
TZNAME:PKT
DTSTART:20230101T000000
END:STANDARD
END:VTIMEZONE
BEGIN:VEVENT
DTSTART;VALUE=DATE:20231104
DTEND;VALUE=DATE:20231105
DTSTAMP:20260424T181822
CREATED:20231104T110539Z
LAST-MODIFIED:20231214T110805Z
UID:20625-1699056000-1699142399@szabist-isb.edu.pk
SUMMARY:Bridging the Gap: A Transformative Seminar in HRM\, Pakistan Studies and Sociology
DESCRIPTION:Students from diverse academic backgrounds gathered at the prestigious Grandview Auditorium to attend a groundbreaking seminar that promised to bridge the realms of Human Resource Management (HRM) Sociology and Pakistan studies. Organized by Ma’am Uzma Shahryar of the Management Science Department\, the event aimed to provide a unique intersection of these disciplines\, offering students a holistic understanding of the complex dynamics that shape modern workplaces.\n\n\nThe seminar commenced with an engaging keynote address by Mr. Muhammad Nadeem\, the director General of the Establishment Division in the Government of Pakistan with over twenty-six years of civil service experience\, he holds a master’s degree in Public Management from Harvard University and the National University of Singapore.\n\n\nAt the time of conclusion\, the air buzzed with positive energy. Students eagerly shared their reflections on the seminar’s unique approach\, expressing gratitude for the opportunity to explore the interdisciplinary nature of HRM\, sociology\, and Pakistan Studies the seminar proved to be a resounding success\, leaving a lasting impact on the students of BBA and MBA’s who attended.
URL:https://szabist-isb.edu.pk/events-calendar/bridging-the-gap-a-transformative-seminar-in-hrm-pakistan-studies-and-sociology/
CATEGORIES:00 - Event Categories,Seminar
ATTACH;FMTTYPE=image/jpeg:https://szabist-isb.edu.pk/wp-content/uploads/2023/12/402242798_661122329467552_2239938213180993583_n.jpg
END:VEVENT
BEGIN:VEVENT
DTSTART;VALUE=DATE:20231104
DTEND;VALUE=DATE:20231105
DTSTAMP:20260424T181822
CREATED:20231104T111547Z
LAST-MODIFIED:20231214T111803Z
UID:20636-1699056000-1699142399@szabist-isb.edu.pk
SUMMARY:Exciting Update from BBA-2 & BSAF-2 Class!
DESCRIPTION:Our BBA-2 & BSAF-2 class embarked on a creative journey in the world of writing skills. Under the guidance and supervision of Ms. Sumayya Amra\, our students embraced their artistic side by choosing a variety of topics for their poster-making activity.\n\n\nThe classroom was buzzing with creativity\, as students passionately expressed their thoughts\, ideas\, and writing skills through colorful and eye-catching posters.\n\n\nThe diversity of topics chosen by our talented students truly reflects their unique interests and perspectives. It’s wonderful to see their creativity come to life on paper!
URL:https://szabist-isb.edu.pk/events-calendar/exciting-update-from-bba-2-bsaf-2-class/
CATEGORIES:00 - Event Categories,Miscellaneous
ATTACH;FMTTYPE=image/jpeg:https://szabist-isb.edu.pk/wp-content/uploads/2023/12/WhatsApp-Image-2023-11-07-at-19.52.22.jpeg
END:VEVENT
BEGIN:VEVENT
DTSTART;VALUE=DATE:20231121
DTEND;VALUE=DATE:20231122
DTSTAMP:20260424T181822
CREATED:20231121T132144Z
LAST-MODIFIED:20250308T092136Z
UID:19405-1700524800-1700611199@szabist-isb.edu.pk
SUMMARY:SZABIST - GDSC representation on event "Google for Education"
DESCRIPTION:Ameer Moavia\, the Lead of the Google Developers Student Club\, and Aeyza Zaheer\, the Co-Lead\, had the privilege of extending a warm welcome to Chris Betcher\, Program Manager at Google for Education\, during a hosted event on November 7th\, 2023. The event provided an insightful platform to deliberate upon the profound impact Google products can have on society\, sparking a discussion that delved into the transformative potential of these tools. \nMeet the GDSC Team in SZABIST-BIC.\n@gdscszabist_isb  #gdscszabist
URL:https://szabist-isb.edu.pk/events-calendar/szabist-gdsc-representation-on-event-google-for-education/
CATEGORIES:Fall 2023,SZABIST Events
ATTACH;FMTTYPE=image/jpeg:https://szabist-isb.edu.pk/wp-content/uploads/2023/11/WhatsApp-Image-2023-11-08-at-2.32.34-AM-scaled.jpeg
END:VEVENT
BEGIN:VEVENT
DTSTART;VALUE=DATE:20231122
DTEND;VALUE=DATE:20231123
DTSTAMP:20260424T181822
CREATED:20231122T070850Z
LAST-MODIFIED:20231122T124952Z
UID:19444-1700611200-1700697599@szabist-isb.edu.pk
SUMMARY:SZABIST Sports Festival
DESCRIPTION:The sports extravaganza started with a sincere invocation to the Almighty\, seeking His grace and mercy\, marking the beginning of the event. \nOn November 14\, 2023\, the opening ceremony\, graced by Dr. Shazia\, set the tone for the festival. The inaugural day of the Sports Festival 2023 saw spirited engagement from numerous teams\, each competing for supremacy in a diverse array of sports and games. \nSzabist Sports Festival 2023 was organized by Mr. Bilal Ahmed (Faculty Advisor Sports Society) and Mr. Zeeshan Hamid (Student Advisor) facilitated the event to provide this platform Where enthusiastic students actively participated in the festivities\, infusing the atmosphere with boundless energy.
URL:https://szabist-isb.edu.pk/events-calendar/szabist-sports-festival/
CATEGORIES:Fall 2023,Life at Campus,SZABIST Events
ATTACH;FMTTYPE=image/jpeg:https://szabist-isb.edu.pk/wp-content/uploads/2023/11/356A9641-2.jpg
END:VEVENT
BEGIN:VEVENT
DTSTART;VALUE=DATE:20231123
DTEND;VALUE=DATE:20231124
DTSTAMP:20260424T181822
CREATED:20231123T062742Z
LAST-MODIFIED:20231215T062858Z
UID:20660-1700697600-1700783999@szabist-isb.edu.pk
SUMMARY:MBA Experiential learning activity
DESCRIPTION:A seminar on “Leadership in the Age of AI\,” was held on November 23\, 2023\, featuring the dynamic guest speaker\, Mr. Wahaj Siraj\, CEO of Nayatel. The event was organized and moderated by Saba Butt with co-organizer Ms. Summaya Amra. MBA\, MS\, MHRM\, and BS Social Sciences students attended the session.\nMr. Wahaj Siraj illuminated the path for embracing new changes by highlighting the redefined role of leadership\, and discussing how to harness the transformative power of the humanistic approach towards the revolutionized business landscape while navigating its challenges. He emphasized the need for an adaptive and initiative-driven approach towards the rapidly evolving business environment.\nThe event also featured a lively discussion with students and professionals from different organizations. The guest speaker shared his journey and life experiences blended with impactful poetry that provided the students with an engaged learning opportunity. Attendees actively participated thus contributing to a rich exchange of ideas. One of the highlights was the vibrant Q&A session\, where attendees could pose thought-provoking questions to Mr. Wahaj Siraj.
URL:https://szabist-isb.edu.pk/events-calendar/mba-experiential-learning-activity-5/
CATEGORIES:00 - Event Categories
ATTACH;FMTTYPE=image/jpeg:https://szabist-isb.edu.pk/wp-content/uploads/2023/12/356A1682-scaled.jpg
END:VEVENT
BEGIN:VEVENT
DTSTART;VALUE=DATE:20231123
DTEND;VALUE=DATE:20231124
DTSTAMP:20260424T181822
CREATED:20231123T143109Z
LAST-MODIFIED:20231214T143317Z
UID:20648-1700697600-1700783999@szabist-isb.edu.pk
SUMMARY:Iqbal Day
DESCRIPTION:A seminar was held on November 23rd\, 2023 at SZABIST\, Islamabad\, to celebrate Iqbal Day. The event was organized by the SZABIST Literary Society in collaboration with the SZABIST Social Sciences Society and the SZABIST Character Building Society. The Guest Speaker\, Ms. Humaira Masihuddin who is a lawyer\, criminologist\, and motivational speaker\, especially on Iqbal\, delivered a captivating speech that brought Iqbal’s legacy to life\, engaging the faculty and students in deep contemplation.\n\n\nThe seminar served as an excellent platform to comprehend Iqbal’s enlightening insights into the modern world and his message for today’s youth.
URL:https://szabist-isb.edu.pk/events-calendar/iqbal-day/
CATEGORIES:00 - Event Categories
ATTACH;FMTTYPE=image/jpeg:https://szabist-isb.edu.pk/wp-content/uploads/2023/12/405112232_664669915779460_7697763906092739108_n-1.jpg
END:VEVENT
BEGIN:VEVENT
DTSTART;TZID=Asia/Karachi:20231124T080000
DTEND;TZID=Asia/Karachi:20231124T170000
DTSTAMP:20260424T181822
CREATED:20231021T072905Z
LAST-MODIFIED:20231129T115426Z
UID:19609-1700812800-1700845200@szabist-isb.edu.pk
SUMMARY:Welcome/Farewell Party and Qawali Night Fall 2023 at SZABIST Islamabad
DESCRIPTION:Students of SZABIST Islamabad campus organized a Welcome/Farewell Party on October 21\, 2023 to welcome the freshers and bid farewell to the outgoing seniors. The event was organized by SZABIST Curtain Society\, SZABIST Social Sciences Society\, SZABIST Literary Union\, SZABIST Dramatic Society\, and SZABIST CS Society under the management/guidance of Dr. Wajid Zulqarnain\, Dr. Wajid Hussain\, Dr. Naveed Ullah Hashmi\, and Ms. Sana Mukthar.\n\n\nThis program was made special with Sufi Kalam\, Ghazals\, cultural performances\, and a Qawwali\, which filled the evening with joy\, excitement\, and laughter culminating in life-time lasting memories.\n\n\nDuring performances\, the audience joined in with the performers to sing along to the melodies and senior students bid welcome to the freshers\, while the latter gave titles to their outgoing seniors.\n\n\nThe program ended with a spiritual ambiance of Qawali.
URL:https://szabist-isb.edu.pk/events-calendar/welcome-farewell-party-and-qawali-night-fall-2023-at-szabist-islamabad/
CATEGORIES:Fall 2023,Life at Campus,SZABIST Events
ATTACH;FMTTYPE=image/png:https://szabist-isb.edu.pk/wp-content/uploads/2023/11/48.png
END:VEVENT
BEGIN:VEVENT
DTSTART;TZID=Asia/Karachi:20231125T080000
DTEND;TZID=Asia/Karachi:20231125T170000
DTSTAMP:20260424T181822
CREATED:20231125T130028Z
LAST-MODIFIED:20231215T063548Z
UID:20675-1700899200-1700931600@szabist-isb.edu.pk
SUMMARY:Celebrating the Triumph of the Masquerade Night!
DESCRIPTION:On November 25th\, 2023. an enchanting night filled with mystery\, rhythm\, and SZABIST spirit! The Masquerade Party\, featuring the electrifying beats of DJ Toshi\, was a resounding success\, thanks to the collaborative efforts of our MBA Club.\n\n\nLocal SZABIST student performers took the stage\, captivating the audience with their talent and passion. The fusion of music and dance created an atmosphere that will linger in our memories.\n\n\nA special shout-out to the SZABIST Photography Society\, whose lens immortalized every magical moment. Your artistry added an extra layer of enchantment to the night. The event wouldn’t have been possible without the unwavering support and guidance of MBA Club mentors – HOD Dr. Shazia Akhtar\, Dr. Zoya Wajid\, Sir Aziz Ahmed\, Sir Zeeshan Hamid\, Dr. Kashif Abrar and Sir Zahad Abbas.
URL:https://szabist-isb.edu.pk/events-calendar/celebrating-the-triumph-of-the-masquerade-night/
CATEGORIES:00 - Event Categories
ATTACH;FMTTYPE=image/jpeg:https://szabist-isb.edu.pk/wp-content/uploads/2023/12/406514001_668864158693369_5200839483498347066_n.jpg
END:VEVENT
BEGIN:VEVENT
DTSTART;VALUE=DATE:20231130
DTEND;VALUE=DATE:20231201
DTSTAMP:20260424T181822
CREATED:20231130T105209Z
LAST-MODIFIED:20231214T105435Z
UID:20619-1701302400-1701388799@szabist-isb.edu.pk
SUMMARY:Study Tour to Pakistan Bait-Ul-Mal
DESCRIPTION:Media Studies students from the SZABIST University\, Islamabad\, made a study tour to the Pakistan Bait-ul-Mal headquarters.\nPakistan Bait-ul-Mal Managing Director Amir Fida Paracha welcomed the students\, expressing gratitude for their visit. During the event\, discussions included topics such as poverty alleviation and media projection of social safety programs.\n\n\nThe Managing Director emphasized the students’ role in promoting all programs of Pakistan Bait-ul-Mal. He encouraged them to actively participate in social welfare programs to demonstrate responsible citizenship. The meeting concluded with the exchange of shields between Managing Director Amir Fida Paracha and Professor Naveed Ullah Hashmi\, accompanying the students from the Media Studies department.
URL:https://szabist-isb.edu.pk/events-calendar/study-tour-to-pakistan-bait-ul-mal/
CATEGORIES:00 - Event Categories,Visits
ATTACH;FMTTYPE=image/jpeg:https://szabist-isb.edu.pk/wp-content/uploads/2023/12/406444730_668303198749465_4652319479294511371_n.jpg
END:VEVENT
BEGIN:VEVENT
DTSTART;VALUE=DATE:20231130
DTEND;VALUE=DATE:20231201
DTSTAMP:20260424T181822
CREATED:20231130T114551Z
LAST-MODIFIED:20240104T114653Z
UID:21149-1701302400-1701388799@szabist-isb.edu.pk
SUMMARY:Clean up Drive Shah Allah Ditta Caves Islamabad
DESCRIPTION:Preserving the historical and ecological integrity is a shared responsibility that goes beyond mere exploration. Keeping in view the environmental stewardship\, the society of Social Responsibility and Society of Environment & Climate change SZABIST University Islamabad collectively arranged a visit to Shah Allah Ditta Caves in Islamabad on Thursday 30th November 2023. The main objective was to educate both students about the environmental impact of human activities. \nThe visit was a fascinating experience that combined information about history\, spirituality\, and natural beauty. Armed with gloves\, trash bags\, and a shared commitment to environmental stewardship\, the students extended their clean-up efforts to the immediate vicinity. The cleanup activity was educational initiatives. A designated area was allocated for waste sorting. Volunteers segregated recyclables from non-recyclables\, showcasing the potential for responsible waste management. This practical demonstration was aimed to motivate not only the students but also those who would follow in their footsteps. The activity was a tangible way to show the commitment of students to the well-being of society and planet. \nThe activity was organized by Mr Asad Gillani the president of Social Responsibility Society and Mr Zeerak the President of Environment & Climate change Society SZABIST University Islamabad under the supervision of Dr. Iffat Rasool Head of  Social Responsibility Society and Dr Denial Pirzada Head of Environment & Climate change Society.
URL:https://szabist-isb.edu.pk/events-calendar/clean-up-drive-shah-allah-ditta-caves-islamabad/
CATEGORIES:Fall 2023,Social Activities,SZABIST Events
ATTACH;FMTTYPE=image/jpeg:https://szabist-isb.edu.pk/wp-content/uploads/2024/01/3-scaled.jpg
END:VEVENT
END:VCALENDAR