BEGIN:VCALENDAR
VERSION:2.0
PRODID:-//SZABIST University Islamabad - ECPv5.12.2//NONSGML v1.0//EN
CALSCALE:GREGORIAN
METHOD:PUBLISH
X-WR-CALNAME:SZABIST University Islamabad
X-ORIGINAL-URL:https://szabist-isb.edu.pk
X-WR-CALDESC:Events for SZABIST University Islamabad
REFRESH-INTERVAL;VALUE=DURATION:PT1H
X-Robots-Tag:noindex
X-PUBLISHED-TTL:PT1H
BEGIN:VTIMEZONE
TZID:Asia/Karachi
BEGIN:STANDARD
TZOFFSETFROM:+0500
TZOFFSETTO:+0500
TZNAME:PKT
DTSTART:20230101T000000
END:STANDARD
END:VTIMEZONE
BEGIN:VEVENT
DTSTART;VALUE=DATE:20230623
DTEND;VALUE=DATE:20230624
DTSTAMP:20260425T025424
CREATED:20230623T091558Z
LAST-MODIFIED:20230713T103907Z
UID:17922-1687478400-1687564799@szabist-isb.edu.pk
SUMMARY:MOU between SZABIST Islamabad and iConsult – June 23\, 2023
DESCRIPTION:MOU between SZABIST Islamabad and iConsult – June 23\, 2023 \n  \niConsult and SZABIST Islamabad Partner to Empower Sindh’s Youth in Digital Skills and E-Commerce Technologies \n  \niConsult and the renowned Shaheed Zulfiqar Ali Bhutto Institute of Science and Technology (SZABIST) Islamabad joined forces in a momentous Joint Venture Agreement on June 23\, 2023. This aims to train and employ 1500 young individuals from Sindh in digital skills and e-commerce technologies under the Youth Education\, Employment & Empowerment Project (YEEEP) in Sindh. The memorandum signing between Mr. Shahid Ahmed Khan\, Senior Partner of iConsult\, and Mr. Khusro Pervaiz\, Head of Campus at SZABIST Islamabad. It sets the stage for a transformative collaboration. Together\, they are dedicated to equipping Sindh’s youth with the necessary tools to thrive in the digital era. The YEEEP initiative will provide comprehensive training in Android/iOS app development\, JAVA programming\, web app development\, social media marketing\, and more. This groundbreaking partnership bridges the digital divide and empowers young individuals with in-demand skills for success. The signing event concluded with a group photo. This partnership represents a pivotal moment in youth education\, employment\, and empowerment\, setting the stage for a brighter future for Sindh’s youth. \n\n			\n				\n			\n			\n				\n			\n			\n				\n			\n			\n				\n			\n			\n				\n			\n			\n				\n			\n		\n\n 
URL:https://szabist-isb.edu.pk/events-calendar/mou-between-szabist-islamabad-and-iconsult-june-23-2023/
CATEGORIES:MoU Signing Ceremony,Spring 2023,SZABIST Events
ATTACH;FMTTYPE=image/jpeg:https://szabist-isb.edu.pk/wp-content/uploads/2023/07/356A4098-1.jpg
END:VEVENT
END:VCALENDAR