BEGIN:VCALENDAR
VERSION:2.0
PRODID:-//SZABIST University Islamabad - ECPv5.12.2//NONSGML v1.0//EN
CALSCALE:GREGORIAN
METHOD:PUBLISH
X-WR-CALNAME:SZABIST University Islamabad
X-ORIGINAL-URL:https://szabist-isb.edu.pk
X-WR-CALDESC:Events for SZABIST University Islamabad
REFRESH-INTERVAL;VALUE=DURATION:PT1H
X-Robots-Tag:noindex
X-PUBLISHED-TTL:PT1H
BEGIN:VTIMEZONE
TZID:Asia/Karachi
BEGIN:STANDARD
TZOFFSETFROM:+0500
TZOFFSETTO:+0500
TZNAME:PKT
DTSTART:20230101T000000
END:STANDARD
END:VTIMEZONE
BEGIN:VEVENT
DTSTART;VALUE=DATE:20230401
DTEND;VALUE=DATE:20230402
DTSTAMP:20260425T061344
CREATED:20230401T091757Z
LAST-MODIFIED:20230419T092131Z
UID:16877-1680307200-1680393599@szabist-isb.edu.pk
SUMMARY:Seminar on Writing Research Proposal
DESCRIPTION:Seminar on Writing Research Proposal \n\n\n \n\n\nSZABIST Research Center of Department of Management Sciences\, SZABIST Islamabad SIG- HR arranged the seminar on Writing Research Proposal on Saturday 1st April 2023 for research students. Dr. Hina Shahab Head of Department of Department of Management Sciences NUML Islamabad introduced the practice skills of academic writing as overall objectives\, problem statements\, finding gaps\, building hypothesis\, justification\, and methodology. The session was organized by Dr. Iffat Rasool Associate Professor at SZABIST Islamabad Campus.\n\n\n\n\n \n\n\n 
URL:https://szabist-isb.edu.pk/events-calendar/seminar-on-writing-research-proposal/
CATEGORIES:Seminar,Spring 2023,SZABIST Events
ATTACH;FMTTYPE=image/jpeg:https://szabist-isb.edu.pk/wp-content/uploads/2023/04/pic-1-6-scaled.jpg
END:VEVENT
BEGIN:VEVENT
DTSTART;VALUE=DATE:20230404
DTEND;VALUE=DATE:20230405
DTSTAMP:20260425T061344
CREATED:20230404T090335Z
LAST-MODIFIED:20230420T091131Z
UID:16888-1680566400-1680652799@szabist-isb.edu.pk
SUMMARY:Creative Writing Competition
DESCRIPTION:Creative Writing Competition\n\n\n \n\n\nA creative writing completion was held between BBA 2 A English Writing Skills and BSAF 2 English Comprehension on Tuesday 4th April 2023. Students worked on issues addressed in Sustainable Development Goals (SDGs) to transform the world. The objective of conducting the competition was an attempt to get at the truth about humanity and social issues in Pakistan and build the confidence among students to improve their thinking process and English writing skills required for their future endeavors.\n\n\n \n\n\nThe activity was organized by Dr. Iffat Rasool Associate Professor and Ms. Farah Khawaja visiting faculty at SZABIST Islamabad Campus.\n\n\n 
URL:https://szabist-isb.edu.pk/events-calendar/creative-writing-competition-2/
CATEGORIES:Semester Activities,Spring 2023,SZABIST Events
ATTACH;FMTTYPE=image/jpeg:https://szabist-isb.edu.pk/wp-content/uploads/2023/04/pic-2-6-1.jpg
END:VEVENT
BEGIN:VEVENT
DTSTART;VALUE=DATE:20230407
DTEND;VALUE=DATE:20230408
DTSTAMP:20260425T061344
CREATED:20230406T200841Z
LAST-MODIFIED:20230420T085239Z
UID:16881-1680825600-1680911999@szabist-isb.edu.pk
SUMMARY:World Health Day Celebration
DESCRIPTION:World Health Day Celebration 🌎\n\n\n\nWe are from Szabist University Islamabad campus BBA 1A\n\n\nstudents\, we whole class participated in today’s event which\n\n\nwas held under the supervision of Uzma Shehryar.\n\n\nWorld Health Organization celebrates global health day every\n\n\nyear on 7th April worldwide to create awareness on the\n\n\nbenefits of being healthy. On this day numerous programs\n\n\nand arrangements are curated by the World Health\n\n\nOrganization. World Health Day was the first time celebrated\n\n\nworldwide in the year 1950. We enjoyed ourselves a lot and shared our\n\n\nwork with our university students as well as spread\n\n\nawareness of the World Health Organisation ( WHO) through\n\n\ndisplaying the work which we made in our class and we\n\n\nexplained to students what is World Health Day and it’s\n\n\nimportance and then we took photographs\, we had fun\n\n\nactivity in our University.\n\n\n \n\n\n• W.H.O’s mission is to promote health\, keep the world safe and\n\n\nserve the vulnerable\, with measurable impact on people at the\n\n\ncountry level.\n\n\n• It works to improve access to essential medicines and health\n\n\nproducts.\n\n\n• train the health workforce and advise on labor policies.\n\n\n• It focuses on women\, and children’s health all over the world.
URL:https://szabist-isb.edu.pk/events-calendar/world-health-day-celebration/
CATEGORIES:Social Activities,Spring 2023,SZABIST Events
ATTACH;FMTTYPE=image/jpeg:https://szabist-isb.edu.pk/wp-content/uploads/2023/04/image-2-BBA-Activity-World-health-day.jpg
END:VEVENT
BEGIN:VEVENT
DTSTART;VALUE=DATE:20230408
DTEND;VALUE=DATE:20230409
DTSTAMP:20260425T061344
CREATED:20230408T104326Z
LAST-MODIFIED:20230417T105326Z
UID:16852-1680912000-1680998399@szabist-isb.edu.pk
SUMMARY:Webinar: "Enlightenment and Economic Change"
DESCRIPTION:Webinar: “Enlightenment and Economic Change” \nSZABIST Social Sciences Society conducted an online session on “Enlightenment and Economic Change” for the students of the social sciences department. This session was held on 8th April 2023 at SZABIST Islamabad. \nThe guest speaker\, Syed Muhammad Usman Masood\, spoke on the mechanics of economic growth and technological progress. He focused\, especially\, on how the Enlightenment affected the economy through our attitude toward technology and the role it should play in human affairs\, and the contribution by institutions in economic transition. \nSyed Muhammad Usman Masood is an economist and a writer. He is a faculty member of the Department of social sciences at SZABIST\, Islamabad\, and is pursuing his Ph.D. at Ibn Haldun University\, Istanbul\, Turkey.
URL:https://szabist-isb.edu.pk/events-calendar/webinar-enlightenment-and-economic-change/
CATEGORIES:Spring 2023,SZABIST Events,Webinar
ATTACH;FMTTYPE=image/jpeg:https://szabist-isb.edu.pk/wp-content/uploads/2023/04/336370662_1573104673176463_8109742578630449188_n.jpg
END:VEVENT
BEGIN:VEVENT
DTSTART;VALUE=DATE:20230413
DTEND;VALUE=DATE:20230414
DTSTAMP:20260425T061344
CREATED:20230413T132257Z
LAST-MODIFIED:20230608T132611Z
UID:17762-1681344000-1681430399@szabist-isb.edu.pk
SUMMARY:Social Advocacy and Community Services visited the "Safe City Project Islamabad
DESCRIPTION:On April 13th\, 2023\, a group of students from the BBA 6B program in Social Advocacy and Community Services visited the “Safe City Project Islamabad.” During the visit\, CPO Shohaib Khurram gave a briefing to the students about the project’s objectives and responsibilities. Ms. Sana Mukhtar was the main organizer. \n 
URL:https://szabist-isb.edu.pk/events-calendar/social-advocacy-and-community-services-visited-the-safe-city-project-islamabad/
CATEGORIES:Social Activities,Spring 2023,SZABIST Events
ATTACH;FMTTYPE=image/jpeg:https://szabist-isb.edu.pk/wp-content/uploads/2023/06/IMG-20230414-WA0026-1.jpg
END:VEVENT
BEGIN:VEVENT
DTSTART;VALUE=DATE:20230415
DTEND;VALUE=DATE:20230416
DTSTAMP:20260425T061344
CREATED:20230415T042009Z
LAST-MODIFIED:20230508T060954Z
UID:16962-1681516800-1681603199@szabist-isb.edu.pk
SUMMARY:Workshop on "Master Data Visualization and Analysis Using Tableau"
DESCRIPTION:Workshop on “Master Data Visualization and Analysis Using Tableau”\n\n\n\nA hands-on workshop took place for the students of BBA-7A – software tools for business\, entitled “Master Data Visualization and Analysis Using Tableau”. The workshop featured Mr. Ayaz Ahmad\, an experienced data manager at epic games\, who provided expert guidance to the participants.\nAs an expert in the field for over a decade\, Mr. Ayaz Ahmad was the ideal candidate to lead the workshop. He provided valuable insights and practical tips to the students. Muhammad Ali Khan organized this workshop\, ensuring that the students were able to gain a thorough understanding of Tableau\, a popular tool used for data visualization and analysis.\n\nOverall\, the workshop proved to be a valuable learning experience for the students. They gained hands-on experience with Tableau and learned how to effectively analyze and visualize data. With the guidance of Mr. Ayaz Ahmad and the support of Muhammad Ali Khan\, the workshop was a great success and left a lasting impact on the students.
URL:https://szabist-isb.edu.pk/events-calendar/workshop-on-master-data-visualization-and-analysis-using-tableau/
CATEGORIES:Spring 2023,SZABIST Events,Workshop
ATTACH;FMTTYPE=image/jpeg:https://szabist-isb.edu.pk/wp-content/uploads/2023/05/WhatsApp-Image-2023-05-03-at-11.15.02-AM-1.jpeg
END:VEVENT
BEGIN:VEVENT
DTSTART;VALUE=DATE:20230417
DTEND;VALUE=DATE:20230418
DTSTAMP:20260425T061344
CREATED:20230316T095953Z
LAST-MODIFIED:20230504T065402Z
UID:16823-1681689600-1681775999@szabist-isb.edu.pk
SUMMARY:Seminar on “Writing a Proposal for Social Advocacy Project”
DESCRIPTION:Seminar on “Writing a Proposal for Social Advocacy Project”\n\n\n\nDepartment of Management Sciences SZABIST Islamabad conducted a seminar on writing a proposal for a social advocacy project for BBA-6 A\, B\, and C students. The activity was held on Thursday 16th March 2023.\n\n\n\nThe guest speaker Dr. Asfandyar Khan environmentalist\, Head of Programs\, Global Educational\, Economic and Social Empowerment (GEESE) shared the techniques for writing proposals for Community Services and Social Advocacy projects. To provide insight into the Project proposal development and management related to community services and enable the students to develop community services initiatives for the diverse and vulnerable segments of society was the main objective.\n\n\n\nMr. Asfandyar Khan\, Ms. Sana Mukhtar\, and Dr. Iffat Rasool organized this session.
URL:https://szabist-isb.edu.pk/events-calendar/seminar-on-writing-a-proposal-for-social-advocacy-project/
CATEGORIES:Seminar,Spring 2023,SZABIST Events
ATTACH;FMTTYPE=image/jpeg:https://szabist-isb.edu.pk/wp-content/uploads/2023/04/Pic-2-4-2-scaled.jpg
END:VEVENT
BEGIN:VEVENT
DTSTART;VALUE=DATE:20230418
DTEND;VALUE=DATE:20230419
DTSTAMP:20260425T061344
CREATED:20230418T131320Z
LAST-MODIFIED:20230608T132141Z
UID:17756-1681776000-1681862399@szabist-isb.edu.pk
SUMMARY:Community Work with Red Crescent Society
DESCRIPTION:“On April 18th\, 2023\, students of “Community Services” from BSSS 1 visited the Pakistan Red Crescent Society. During the visit\, Mr. Adnan\, a representative of the Volunteer Program\, provided a detailed orientation on the history\, goals\, and ongoing programs of the PRCS.” \n  \n\n			\n				\n			\n			\n				\n			\n			\n				\n			\n		\n\n  \n 
URL:https://szabist-isb.edu.pk/events-calendar/community-work-with-red-crescent-society/
CATEGORIES:Social Activities,Spring 2023,SZABIST Events
ATTACH;FMTTYPE=image/jpeg:https://szabist-isb.edu.pk/wp-content/uploads/2023/06/IMG-20230418-WA0030-1-e1686230394908.jpg
END:VEVENT
BEGIN:VEVENT
DTSTART;VALUE=DATE:20230422
DTEND;VALUE=DATE:20230423
DTSTAMP:20260425T061344
CREATED:20230508T055622Z
LAST-MODIFIED:20230508T055622Z
UID:17051-1682121600-1682207999@szabist-isb.edu.pk
SUMMARY:A Visit to “Step & Cure” an NGO for the Educational and Rehabilitation Center
DESCRIPTION:A Visit to “Step & Cure” an NGO for the Educational and Rehabilitation Center\n\n\n \n\n\nAlmost above 240 million children are living with a disability. Children with disabilities have the same rights as all other children in the world to nurturing through attentive care\, encouragement in education\, adequate nutrition\, and social protection\, including in humanitarian situations. However\, the countries like Pakistan facing several economic and societal crises cannot stand alone to support these children. Therefore\, several nonprofit organizations are a ray of hope not only for these children but also for the state of Pakistan.\n\n\n \n\n\nConsidering social responsibility an integral part of education\, the SZABIST Islamabad enables the students to understand their responsibility toward society by engaging them in community work and visits to different organizations. Following this tradition\, the students of BBA 6 A visited the “Step & Cure” an NGO for educational and rehabilitation centers on Eid night and donated to the children.  Dr. Iffat Rasool Associate Professor at the Department of Management Sciences SZABIST Islamabad was the organizer of the visit.
URL:https://szabist-isb.edu.pk/events-calendar/a-visit-to-step-cure-an-ngo-for-the-educational-and-rehabilitation-center/
CATEGORIES:Social Activities,Spring 2023,SZABIST Events
ATTACH;FMTTYPE=image/jpeg:https://szabist-isb.edu.pk/wp-content/uploads/2023/05/pic-3-5.jpg
END:VEVENT
BEGIN:VEVENT
DTSTART;VALUE=DATE:20230430
DTEND;VALUE=DATE:20230501
DTSTAMP:20260425T061344
CREATED:20230429T211810Z
LAST-MODIFIED:20230516T080742Z
UID:16953-1682812800-1682899199@szabist-isb.edu.pk
SUMMARY:A Debate Competition
DESCRIPTION:A Debate Competition\n\n\n\nSZABIST Islamabad strongly believes that a healthy mind consists of a healthy body. That’s why Szabist Islamabad always tries to make its students into healthy activities which promote innovative thinking and help students to build links.\n\n\nOn 30th of April 2023\, Szabist Islamabad held a prestigious debate competition which was performed under the supervision of Ma’am Uzma Shahryar. The students of BSAF-2A and BBA 1 A had to respectively compete against each other countering the Social Issues of Pakistan. Respective judges also joined us in this event and the students were ranked with positions accordingly and awarded certificates.\n\n\nThe students gained knowledge on various topics and the event went very well and knowledgeable.
URL:https://szabist-isb.edu.pk/events-calendar/a-debate-competition/
CATEGORIES:Semester Activities,Spring 2023,SZABIST Events
ATTACH;FMTTYPE=image/jpeg:https://szabist-isb.edu.pk/wp-content/uploads/2023/05/356A0823-1.jpg
END:VEVENT
END:VCALENDAR