BEGIN:VCALENDAR
VERSION:2.0
PRODID:-//SZABIST University Islamabad - ECPv5.12.2//NONSGML v1.0//EN
CALSCALE:GREGORIAN
METHOD:PUBLISH
X-WR-CALNAME:SZABIST University Islamabad
X-ORIGINAL-URL:https://szabist-isb.edu.pk
X-WR-CALDESC:Events for SZABIST University Islamabad
REFRESH-INTERVAL;VALUE=DURATION:PT1H
X-Robots-Tag:noindex
X-PUBLISHED-TTL:PT1H
BEGIN:VTIMEZONE
TZID:Asia/Karachi
BEGIN:STANDARD
TZOFFSETFROM:+0500
TZOFFSETTO:+0500
TZNAME:PKT
DTSTART:20230101T000000
END:STANDARD
END:VTIMEZONE
BEGIN:VEVENT
DTSTART;TZID=Asia/Karachi:20230304T080000
DTEND;TZID=Asia/Karachi:20230305T170000
DTSTAMP:20260425T075007
CREATED:20230305T094453Z
LAST-MODIFIED:20230403T094944Z
UID:16723-1677916800-1678035600@szabist-isb.edu.pk
SUMMARY:A Visit to Empowering women Entrepreneurs Exhibition ‘Her Hunar’
DESCRIPTION:Women’s empowerment is an essential component for growth in developing nations like Pakistan for lifting millions of families out of the poverty cycle. The Ministry of Commerce and Trade Development Authority of Pakistan (TDAP) organized empowering women entrepreneurs exhibition ‘Her Hunar’. It was held on 4th & 5th March 2023 at the Pakistan-China friendship center Islamabad. Students of EMBA attended exhibition activities and participated in training workshops. This exhibition provided a learning and networking platform for EMBA students.\n\n\nDr. Saqlain Raza and Mr. Shahid Jahangir Raj supervised this experiential visit.
URL:https://szabist-isb.edu.pk/events-calendar/a-visit-to-empowering-women-entrepreneurs-exhibition-her-hunar/
CATEGORIES:Spring 2023,SZABIST Events,Visits
ATTACH;FMTTYPE=image/jpeg:https://szabist-isb.edu.pk/wp-content/uploads/2023/04/1-15.jpeg
END:VEVENT
BEGIN:VEVENT
DTSTART;VALUE=DATE:20230306
DTEND;VALUE=DATE:20230307
DTSTAMP:20260425T075007
CREATED:20230306T090907Z
LAST-MODIFIED:20230306T113747Z
UID:16395-1678060800-1678147199@szabist-isb.edu.pk
SUMMARY:13th Convocation ceremony of SZABIST Islamabad
DESCRIPTION:13th Convocation ceremony of SZABIST Islamabad \nThe 13th Convocation ceremony of SZABIST Islamabad was a remarkable event for all the students awarded Bachelor’s\, Master’s\, and Doctoral degrees. The event took place on March 1st\, 2023 at Jinnah Convention Center\, where the live coverage of the event broadcasted on social media platforms and FM Radio 106.6. \nMadam President Ms. Shehnaz Wazir Ali\, declared the opening of the convocation ceremony. It was followed with the recitation of the National Anthem and the Holy Quran. Prof. Dr. Mukhtar Ahmed\, Chairman\, Higher Education Commission (HEC)\,was the chief guest who addressed the graduates. Along with him were the VP Academics Prof. Doc Altaf Mukati \, Board of Trustees\, Mr. Khursheed Ahmed Junejo. Also\, Mr. Shahadat Awan\, VP Development and Finance\, Madam Nasreen Haque and HOC Mr. Khusro Pervaiz Khan presented the awards to the students. They addressed the graduates with their heartwarming wishes. \nMadam President Shehnaz Wazir gave academic medals to the high achievers\, and the graduates took the oath\, then declared the closing of the ceremony. \nThe ceremony was a proud moment for all the graduates\, who were encouraged to achieve more success in their future endeavors. The event was a testament to the academic excellence of SZABIST Islamabad\, and the hard work and dedication of the students and faculty members. \nCongratulations to all the Graduates on their remarkable achievements! \n 
URL:https://szabist-isb.edu.pk/events-calendar/13th-convocation-ceremony-of-szabist-islamabad/
CATEGORIES:Convocation,Spring 2023,SZABIST Events
ATTACH;FMTTYPE=image/jpeg:https://szabist-isb.edu.pk/wp-content/uploads/2023/03/WhatsApp-Image-2023-03-03-at-16.18.21-4.jpeg
END:VEVENT
BEGIN:VEVENT
DTSTART;VALUE=DATE:20230308
DTEND;VALUE=DATE:20230310
DTSTAMP:20260425T075008
CREATED:20230313T084548Z
LAST-MODIFIED:20230313T084548Z
UID:16499-1678233600-1678406399@szabist-isb.edu.pk
SUMMARY:22nd International Research Conference - SZABIST Islamabad
DESCRIPTION:22nd International Research Conference – SZABIST Islamabad\n\n\n\nSZABIST Islamabad hosted its 22nd International Research Conference on “People\, Planet and Prosperity: SDGs from the Lens of Business and Innovation” on March 8-9\, 2023. The conference had participants from Pakistan and abroad\, with more than 50 papers presented in various domains\, including Marketing\, HRM\, Finance\, Social-Sciences\, and Multi-disciplinary studies. Esteemed speakers presented on Fintech\, Publishing in Impact Factor Journals\, and training for incubators during the Public Policy Forum and Portfolio Development Workshops on the second day.\n\n\n\nThis conference provided a unique platform for scholars\, researchers\, and practitioners to share their insights on how business and innovation can contribute to achieving the United Nations Sustainable Development Goals (SDGs).\n       
URL:https://szabist-isb.edu.pk/events-calendar/22nd-international-research-conference-szabist-islamabad/
CATEGORIES:Conferences,Spring 2023,SZABIST Events
ATTACH;FMTTYPE=image/jpeg:https://szabist-isb.edu.pk/wp-content/uploads/2023/03/335027386_626963885907138_5983165810076984933_n-1.jpg
END:VEVENT
BEGIN:VEVENT
DTSTART;VALUE=DATE:20230314
DTEND;VALUE=DATE:20230315
DTSTAMP:20260425T075008
CREATED:20230314T071221Z
LAST-MODIFIED:20230419T084731Z
UID:16872-1678752000-1678838399@szabist-isb.edu.pk
SUMMARY:Blood Donation Camp
DESCRIPTION:Blood Donation Camp \nA blood donation activity was held on Tuesday 14th March 2023. Social Responsibility Society SZABIST Islamabad facilitated Shaukat Khanum Memorial Cancer Hospital for collecting blood donation. The main objective of this activity was to build the sense of social responsibility among the youth to help cancer patients who battle bravely against this deadly disease .The students participated enthusiastically to part their role in community building.
URL:https://szabist-isb.edu.pk/events-calendar/blood-donation-camp/
CATEGORIES:Miscellaneous,Spring 2023,SZABIST Events
ATTACH;FMTTYPE=image/jpeg:https://szabist-isb.edu.pk/wp-content/uploads/2023/04/pic-2-5-1.jpg
END:VEVENT
BEGIN:VEVENT
DTSTART;VALUE=DATE:20230318
DTEND;VALUE=DATE:20230319
DTSTAMP:20260425T075008
CREATED:20230319T125154Z
LAST-MODIFIED:20230322T131344Z
UID:16643-1679097600-1679183999@szabist-isb.edu.pk
SUMMARY:Alumni Reunion 2023
DESCRIPTION:Alumni Reunion 2023\n\n\nExecutive Development Center (EDC) organized an incredible Alumni Reunion on Saturday\, March 18th\, 2023 at SZABIST\, Islamabad!\n\n\nThe event was a huge success\, bringing together alumni from all over to reconnect with their alma mater and each other. It was a good opportunity for them to reflect on their past journey at the university and look forward to their bright futures as professionals and role models in society. The Reunion was filled with so much energy\, pride\, friendship\, and loyalty. It truly reminded everyone of the lasting bonds they formed at SZABIST.\n\n\nWe’re also excited to share that the SZABIST Alumni Global Association (SAGA) was officially launched during the occasion under the guidance of the Head of Campus\, Mr. Khusro Pervaiz Khan.\n\n\n\nThanks to everyone who made this event such a memorable one. We can’t wait to see you all again at the next reunion!
URL:https://szabist-isb.edu.pk/events-calendar/alumni-reunion-2023/
CATEGORIES:Life at Campus,SZABIST Events
ATTACH;FMTTYPE=image/jpeg:https://szabist-isb.edu.pk/wp-content/uploads/2023/03/336812757_899679814637383_2702530047847157124_n.jpg
END:VEVENT
BEGIN:VEVENT
DTSTART;TZID=Asia/Karachi:20230321T080000
DTEND;TZID=Asia/Karachi:20230322T170000
DTSTAMP:20260425T075008
CREATED:20230322T083438Z
LAST-MODIFIED:20230403T091053Z
UID:16702-1679385600-1679504400@szabist-isb.edu.pk
SUMMARY:NTU-Interloop All Pakistan Business Plan Competition
DESCRIPTION:NTU-Interloop All Pakistan Business Plan Competition\n\nBSAF SZABIST Islamabad students participated in the NTU-Interloop All Pakistan Business Plan Competition\, held at the National Textile University Faisalabad on March 13-14\, 2023. The event was organized by the NTU Entrepreneurship Society of Faisalabad Business School\, in collaboration with Interloop Ltd\, and was supervised by Dr. Arusa Khalid\, Assistant Professor of Management Sciences.\n\n\nThis competition was a fantastic platform for students from more than forty universities across Pakistan\, including SZABIST Islamabad\, IBA Karachi\, IBA Sakhur\, NAMAL Mianwali\, Kohat University of Science and Technology\, IIU Islamabad\, Quaid e Azam University Islamabad\, GUCW Lahore\, UMT Lahore\, and UCP Lahore\, to showcase their innovative entrepreneurial ideas and initiate their own startups.\n\n\nOur BSAF SZABIST Islamabad students gained valuable experience and learning from this event\, and we’re proud of their efforts and enthusiasm. The competition aimed not only to provide a meaningful learning experience for students but also to strengthen Pakistan’s economy through innovative ideas.\n\n\nWe’re proud of our students’ achievements and participation in this event\, and we look forward to supporting them in their entrepreneurial pursuits.
URL:https://szabist-isb.edu.pk/events-calendar/ntu-interloop-all-pakistan-business-plan-competition/
CATEGORIES:Miscellaneous,Spring 2023,SZABIST Events
ATTACH;FMTTYPE=image/jpeg:https://szabist-isb.edu.pk/wp-content/uploads/2023/03/1-2-1-1.jpeg
END:VEVENT
BEGIN:VEVENT
DTSTART;VALUE=DATE:20230322
DTEND;VALUE=DATE:20230323
DTSTAMP:20260425T075008
CREATED:20230322T121343Z
LAST-MODIFIED:20230417T104047Z
UID:16834-1679443200-1679529599@szabist-isb.edu.pk
SUMMARY:Seminar on Burn Calories not Cigarettes
DESCRIPTION:Seminar on Burn Calories not Cigarettes\n\n\n\nSZABIST Islamabad has a tradition of arranging activities for creating awareness among the youth for character-building and health issues. Taking care of its social responsibility Society of SZABIST in collaboration with the Department of Management Sciences SZABIST Islamabad organized a seminar for the students of BBA 6 Social Advocacy and Community Development on “Burn Calories\, not Cigarettes” on Tuesday 21 March 2023.\n\n\nThe guest speaker Dr. Humaira Naz Altaf Associate Consultant and Professor at Shifa International Hospital and Shifa College of Medicine shared with the students the negative consequences of smoking and advised them the tips for living a healthy life.\n\n\n\n Dr. Iffat Rasool (Associate Professor) and Ms. Farah Khawaja (visiting Faculty) were the organizers of the seminar.
URL:https://szabist-isb.edu.pk/events-calendar/seminar-on-burn-calories-not-cigarettes/
CATEGORIES:Seminar,Spring 2023,SZABIST Events
ATTACH;FMTTYPE=image/jpeg:https://szabist-isb.edu.pk/wp-content/uploads/2023/04/336780278_760348742435322_5325015153954480317_n.jpg
END:VEVENT
BEGIN:VEVENT
DTSTART;VALUE=DATE:20230329
DTEND;VALUE=DATE:20230330
DTSTAMP:20260425T075008
CREATED:20230328T072323Z
LAST-MODIFIED:20230329T083258Z
UID:16691-1680048000-1680134399@szabist-isb.edu.pk
SUMMARY:Workshop on LaTeX at the Pakistan Institute of Development Economics
DESCRIPTION:Workshop on LaTeX at the Pakistan Institute of Development Economics\n\nDr. Hassan Raza\, conducted an outstanding workshop on LaTeX at the Pakistan Institute of Development Economics (PIDE Islamabad). His expertise and knowledge on the subject were truly impressive\, and he effectively conveyed the features and functions of LaTeX to the students. It was great to see the students engaged and eager to learn from one of our faculty members\, and we’re proud to have such a talented individual on our team.\n\n\nLaTeX is a tool that can greatly benefit students\, especially those working on their thesis. We believe that our faculty members’ involvement in such workshops not only benefits our students but also reflects the quality of education and the expertise we offer at SZABIST.\n\n\nOverall\, it was a great workshop\, and we’re grateful to Dr. Hassan Raza for conducting it and the Pakistan Institute of Development Economics for hosting it. We look forward to future collaborations and opportunities to continue to support our students’ academic growth and success.
URL:https://szabist-isb.edu.pk/events-calendar/workshop-on-latex-at-the-pakistan-institute-of-development-economics/
CATEGORIES:Spring 2023,SZABIST Events,Workshop
ATTACH;FMTTYPE=image/jpeg:https://szabist-isb.edu.pk/wp-content/uploads/2023/03/IMG_9877-1.jpg
END:VEVENT
END:VCALENDAR